BEGIN:VCALENDAR
VERSION:2.0
PRODID:-//ChamberMaster//Event Calendar 2.0//EN
METHOD:PUBLISH
X-PUBLISHED-TTL:P3D
REFRESH-INTERVAL:P3D
CALSCALE:GREGORIAN
BEGIN:VEVENT
DTSTART:20100524T070000Z
DTEND:20100524T070000Z
X-MICROSOFT-CDO-ALLDAYEVENT:FALSE
SUMMARY:PUSD Presents Partners in Education Golf Classic
DESCRIPTION:More info: http://www.powayusd.com/foundation/GolfClassic/default.html
X-ALT-DESC;FMTTYPE=text/html:<DIV><FONT size=3 face="Times New Roman"><FONT size=3 face="Times New Roman"><P align=left><STRONG>More info: </STRONG><SPAN style="FONT-FAMILY: 'Calibri'\,'sans-serif'\; COLOR: #1f497d\; FONT-SIZE: 11pt\; mso-fareast-font-family: Calibri\; mso-fareast-theme-font: minor-latin\; mso-bidi-font-family: 'Times New Roman'\; mso-ansi-language: EN-US\; mso-fareast-language: EN-US\; mso-bidi-language: AR-SA"><A href="http://www.powayusd.com/foundation/GolfClassic/default.html">http://www.powayusd.com/foundation/GolfClassic/default.html</A></SPAN></P></FONT></FONT></DIV>
LOCATION:Maderas Golf Club
UID:e.784.988
SEQUENCE:3
DTSTAMP:20260424T012628Z
URL:https://chamber.sdbusinesschamber.com/events/details/pusd-presents-partners-in-education-golf-classic-05-24-2010-988
END:VEVENT

END:VCALENDAR
