BEGIN:VCALENDAR
VERSION:2.0
PRODID:-//ChamberMaster//Event Calendar 2.0//EN
METHOD:PUBLISH
X-PUBLISHED-TTL:P3D
REFRESH-INTERVAL:P3D
CALSCALE:GREGORIAN
BEGIN:VEVENT
DTSTART:20111109T153000Z
DTEND:20111109T170000Z
X-MICROSOFT-CDO-ALLDAYEVENT:FALSE
SUMMARY:Public Policy Committee
DESCRIPTION:
X-ALT-DESC;FMTTYPE=text/html:
LOCATION:Doubletree Golf Resort 14455 Pensquitos Drive San Diego CA 92129
UID:e.784.2254
SEQUENCE:3
DTSTAMP:20260423T012939Z
URL:https://chamber.sdbusinesschamber.com/events/details/public-policy-committee-11-09-2011-2254
END:VEVENT

END:VCALENDAR
