BEGIN:VCALENDAR
VERSION:2.0
PRODID:-//ChamberMaster//Event Calendar 2.0//EN
METHOD:PUBLISH
X-PUBLISHED-TTL:P3D
REFRESH-INTERVAL:P3D
CALSCALE:GREGORIAN
BEGIN:VEVENT
DTSTART:20101021T143000Z
DTEND:20101021T153000Z
X-MICROSOFT-CDO-ALLDAYEVENT:FALSE
SUMMARY:Public Policy Committee
DESCRIPTION:
X-ALT-DESC;FMTTYPE=text/html:
LOCATION:Courtyard by Marriott Rancho Bernardo
UID:e.784.1298
SEQUENCE:3
DTSTAMP:20260423T182830Z
URL:https://chamber.sdbusinesschamber.com/events/details/public-policy-committee-10-21-2010-1298
END:VEVENT

END:VCALENDAR
