BEGIN:VCALENDAR
VERSION:2.0
PRODID:-//ChamberMaster//Event Calendar 2.0//EN
METHOD:PUBLISH
X-PUBLISHED-TTL:P3D
REFRESH-INTERVAL:P3D
CALSCALE:GREGORIAN
BEGIN:VEVENT
DTSTART:20110413T143000Z
DTEND:20110413T160000Z
X-MICROSOFT-CDO-ALLDAYEVENT:FALSE
SUMMARY:Public Policy Committee
DESCRIPTION:
X-ALT-DESC;FMTTYPE=text/html:
LOCATION:Doubletree Golf Resort 14455 Pensquitos Drive San Diego CA 92129
UID:e.784.2247
SEQUENCE:3
DTSTAMP:20260423T111840Z
URL:https://chamber.sdbusinesschamber.com/events/details/public-policy-committee-04-13-2011-2247
END:VEVENT

END:VCALENDAR
