BEGIN:VCALENDAR
VERSION:2.0
PRODID:-//ChamberMaster//Event Calendar 2.0//EN
METHOD:PUBLISH
X-PUBLISHED-TTL:P3D
REFRESH-INTERVAL:P3D
CALSCALE:GREGORIAN
BEGIN:VEVENT
DTSTART:20110309T160000Z
DTEND:20110309T170000Z
X-MICROSOFT-CDO-ALLDAYEVENT:FALSE
SUMMARY:Public Policy Committee
DESCRIPTION:This month\, we will continue discussing our priorities for a legislative mission to Sacramento later this spring. During the February Meeting\, the committee decided to make redevelopment our primary focus.\n\n	\n\n	We greatly hope that you will share your input and ideas in helping the chamber formulate a solution that keeps redevelopment funds for the region.
X-ALT-DESC;FMTTYPE=text/html:<div class="msg Nth">\n	This month\, we will continue discussing our priorities for a legislative mission to Sacramento later this spring. During the February Meeting\, the committee decided to make redevelopment our primary focus.<br />\n	<br />\n	We greatly hope that you will share your input and ideas in helping the chamber formulate a solution that keeps redevelopment funds for the region.</div>\n
LOCATION:Doubletree Golf Resort 14455 Pensquitos Drive San Diego CA 92129
UID:e.784.2246
SEQUENCE:3
DTSTAMP:20260423T113502Z
URL:https://chamber.sdbusinesschamber.com/events/details/public-policy-committee-03-09-2011-2246
END:VEVENT

END:VCALENDAR
