BEGIN:VCALENDAR
VERSION:2.0
PRODID:-//ChamberMaster//Event Calendar 2.0//EN
METHOD:PUBLISH
X-PUBLISHED-TTL:P3D
REFRESH-INTERVAL:P3D
CALSCALE:GREGORIAN
BEGIN:VEVENT
DTSTART:20100121T080000Z
DTEND:20100121T080000Z
X-MICROSOFT-CDO-ALLDAYEVENT:FALSE
SUMMARY:Public Policy Committee
DESCRIPTION:
X-ALT-DESC;FMTTYPE=text/html:
LOCATION:Radisson Suite Hotel (Monta Dura Room)
UID:e.784.905
SEQUENCE:3
DTSTAMP:20260424T071851Z
URL:https://chamber.sdbusinesschamber.com/events/details/public-policy-committee-01-21-2010-905
END:VEVENT

END:VCALENDAR
