BEGIN:VCALENDAR
VERSION:2.0
PRODID:-//ChamberMaster//Event Calendar 2.0//EN
METHOD:PUBLISH
X-PUBLISHED-TTL:P3D
REFRESH-INTERVAL:P3D
CALSCALE:GREGORIAN
BEGIN:VEVENT
DTSTART:20120111T153000Z
DTEND:20120111T170000Z
X-MICROSOFT-CDO-ALLDAYEVENT:FALSE
SUMMARY:Public Policy Committee
DESCRIPTION:
X-ALT-DESC;FMTTYPE=text/html:
LOCATION:San Diego North Chamber of Commerce 10875 Rancho Bernardo Road Suite 104 San Diego CA 92127
UID:e.784.2524
SEQUENCE:3
DTSTAMP:20260422T224809Z
URL:https://chamber.sdbusinesschamber.com/events/details/public-policy-committee-01-11-2012-2524
END:VEVENT

END:VCALENDAR
