BEGIN:VCALENDAR
VERSION:2.0
PRODID:-//ChamberMaster//Event Calendar 2.0//EN
METHOD:PUBLISH
X-PUBLISHED-TTL:P3D
REFRESH-INTERVAL:P3D
CALSCALE:GREGORIAN
BEGIN:VEVENT
DTSTART:20131015T160000Z
DTEND:20131015T180000Z
X-MICROSOFT-CDO-ALLDAYEVENT:FALSE
SUMMARY:Preventing Sexual Harassment
DESCRIPTION:Fulfill your AB1825 certification by taking this engaging two hour training. Prepare responses to harassment claims\, conduct investigations and promote a culture of zero tolerance for harassment in your workplace.
X-ALT-DESC;FMTTYPE=text/html:Fulfill your AB1825 certification by taking this engaging two hour training. Prepare responses to harassment claims\, conduct investigations and promote a culture of zero tolerance for harassment in your workplace.
LOCATION:Pacific Safety Center 9880 Via Pasar Suite F San Diego CA 92126
UID:e.784.2942
SEQUENCE:3
DTSTAMP:20260421T143025Z
URL:https://chamber.sdbusinesschamber.com/events/details/preventing-sexual-harassment-10-15-2013-2942
END:VEVENT

END:VCALENDAR
