BEGIN:VCALENDAR
VERSION:2.0
PRODID:-//ChamberMaster//Event Calendar 2.0//EN
METHOD:PUBLISH
X-PUBLISHED-TTL:P3D
REFRESH-INTERVAL:P3D
CALSCALE:GREGORIAN
BEGIN:VEVENT
DTSTART:20190927T000000Z
DTEND:20190927T020000Z
X-MICROSOFT-CDO-ALLDAYEVENT:FALSE
SUMMARY:PRAVA Construction September Beer Social at the TERi Campus of Life
DESCRIPTION:Please join us for relationship building\, free beer\, and fun supporting the TERi Campus of Life. There will be several different industries attending this event\, so there will be a little something for everyone. Guests are welcome! Please RSVP at the link below if you would like to attend. Space is filling up quickly\, so don't delay!\n\nhttps://www.eventbrite.com/e/team-prava-september-contractor-beer-social-and-private-tour-sponsored-by-trinity-grading-and-geocon-tickets-62069704156
X-ALT-DESC;FMTTYPE=text/html:<p>Please join us for relationship building\, free beer\, and fun supporting the TERi Campus of Life. There will be several different industries attending this event\, so there will be a little something for everyone. Guests are welcome! Please RSVP at the link below if you would like to attend. Space is filling up quickly\, so don&#39\;t delay!</p>\n\n<p><span style="font-family:helvetica neue"><span style="font-size:11.0pt"><a href="https://circulate.it/r/jmsZFPjuCy0UTKS7Y1L_9_xTvg_Sq0jzCp7oeGBJxpNQjj_rdfqVmyo9qTrceeG0/www.eventbrite.com/e/team-prava-september-contractor-beer-social-and-private-tour-sponsored-by-trinity-grading-and-geocon-tickets-62069704156" target="_blank">https://www.eventbrite.com/e/team-prava-september-contractor-beer-social-and-private-tour-sponsored-by-trinity-grading-and-geocon-tickets-62069704156</a></span></span></p>\n
LOCATION:TERI Campus Of Life 555 Deer Springs Road San Marcos\, CA 92069
UID:e.784.22883
SEQUENCE:3
DTSTAMP:20260421T113623Z
URL:https://chamber.sdbusinesschamber.com/events/details/prava-construction-september-beer-social-at-the-teri-campus-of-life-22883
END:VEVENT

END:VCALENDAR
