BEGIN:VCALENDAR
VERSION:2.0
PRODID:-//ChamberMaster//Event Calendar 2.0//EN
METHOD:PUBLISH
X-PUBLISHED-TTL:P3D
REFRESH-INTERVAL:P3D
CALSCALE:GREGORIAN
BEGIN:VEVENT
DTSTART:20110421T153000Z
DTEND:20110421T183000Z
X-MICROSOFT-CDO-ALLDAYEVENT:FALSE
SUMMARY:Power of Philanthropy
DESCRIPTION:Join us for this interactive dialogue with panelists from the business community\, nonprofit sector\, grant makers\, donors\, and others.  The goal of this summit is set the stage for a conversation about how for-profit and non-profit companies can effectively collaborate\, particularly in the current economic climate\, to maintain a strong and vibrant economy.  \n\n\n\nTogether with the San Diego North Chamber of Commerce\, the San Diego Foundation\, Sony Electronics and the NonProfit Resource Group\, this forum will bring us together to discuss the power of philanthropy from all angles   business\, community\, economics and social - to find real solutions to our expanding community challenges   It is our hope that our panelists will be able to spark a conversation that will continue.  \n\n\n\nThe facilitator of the meeting will be Angelo Damante\, President/CEO Mercedes Benz of Escondido.  Confirmed panelists include:\n\n\n	\n		Darlene Shiley   recognized philanthropist\n	\n		Ed Wallace   VP of Philanthropy\, Sony Electronics\n	\n		Doug Sawyer   CEO\, United Way\n	\n		Debra Rosen   President\, San Diego North Chamber of Commerce\n	\n		Nancy Jamison - CEO\, San Diego Grantmakers
X-ALT-DESC;FMTTYPE=text/html:Join us for this interactive dialogue with panelists from the business community\, nonprofit sector\, grant makers\, donors\, and others.&nbsp\; The goal of this summit is set the stage for a conversation about how for-profit and non-profit companies can effectively collaborate\, particularly in the current economic climate\, to maintain a strong and vibrant economy. &nbsp\;<br />\n<br />\nTogether with the San Diego North Chamber of Commerce\, the San Diego Foundation\, Sony Electronics and the NonProfit Resource Group\, this forum will bring us together to discuss the power of philanthropy from all angles &ndash\; business\, community\, economics and social - to find real solutions to our expanding community challenges&nbsp\;&nbsp\; It is our hope that our panelists will be able to spark a conversation that will continue. &nbsp\;<br />\n<br />\nThe facilitator of the meeting will be Angelo Damante\, President/CEO Mercedes Benz of Escondido.&nbsp\; Confirmed panelists include:<br />\n<ul>\n	<li>\n		Darlene Shiley &ndash\; recognized philanthropist</li>\n	<li>\n		Ed Wallace &ndash\; VP of Philanthropy\, Sony Electronics</li>\n	<li>\n		Doug Sawyer &ndash\; CEO\, United Way</li>\n	<li>\n		Debra Rosen &ndash\; President\, San Diego North Chamber of Commerce</li>\n	<li>\n		<span style="color:black">Nancy Jamison - CEO\, San Diego Grantmakers</span></li>\n</ul>\n
LOCATION:Sony Electronics\, Building 7 16530 Via Esprillo San Diego\, CA 92127
UID:e.784.2263
SEQUENCE:3
DTSTAMP:20260423T113036Z
URL:https://chamber.sdbusinesschamber.com/events/details/power-of-philanthropy-04-21-2011-2263
END:VEVENT

END:VCALENDAR
