BEGIN:VCALENDAR
VERSION:2.0
PRODID:-//ChamberMaster//Event Calendar 2.0//EN
METHOD:PUBLISH
X-PUBLISHED-TTL:P3D
REFRESH-INTERVAL:P3D
CALSCALE:GREGORIAN
BEGIN:VEVENT
DTSTART:20101003T030000Z
DTEND:20101003T050000Z
X-MICROSOFT-CDO-ALLDAYEVENT:FALSE
SUMMARY:Poway Music Fest
DESCRIPTION:Chris Hillman and multi-instrumentalist Herb Pedersen met in 1963 at the legendary Troubadour\, when they were 18-year-old musicians.  Since then\, Hillman cut a wide swath across the rock and roll landscape\, as a founding member of the Byrds\, the Flying Burrito Brothers\, The Desert Rose Band and Stephen Stills' band\, Manassas. Herb Pedersen's amazing career crosses the boundaries of bluegrass\, country and pop music. Eve Selis\, a five-time San Diego Music Awards winner\, blends many styles of Americana music into  Roadhouse Rock topped off by her indelible "lemonade and whiskey" voice.  This will be a memorable concert and not to be missed.
X-ALT-DESC;FMTTYPE=text/html:<div>Chris Hillman and multi-instrumentalist Herb Pedersen met in 1963 at the legendary Troubadour\, when they were 18-year-old musicians.  Since then\, Hillman cut a wide swath across the rock and roll landscape\, as a founding member of the Byrds\, the Flying Burrito Brothers\, The Desert Rose Band and Stephen Stills' band\, Manassas. Herb Pedersen&rsquo\;s amazing career crosses the boundaries of bluegrass\, country and pop music. Eve Selis\, a five-time San Diego Music Awards winner\, blends many styles of Americana music into  Roadhouse Rock topped off by her indelible &quot\;lemonade and whiskey&quot\; voice.  This will be a memorable concert and not to be missed.</div>
LOCATION:Poway Center for the Performing Arts
UID:e.784.1771
SEQUENCE:3
DTSTAMP:20260423T182951Z
URL:https://chamber.sdbusinesschamber.com/events/details/poway-music-fest-10-02-2010-1771
END:VEVENT

END:VCALENDAR
