BEGIN:VCALENDAR
VERSION:2.0
PRODID:-//ChamberMaster//Event Calendar 2.0//EN
METHOD:PUBLISH
X-PUBLISHED-TTL:P3D
REFRESH-INTERVAL:P3D
CALSCALE:GREGORIAN
BEGIN:VEVENT
DTSTART:20130518T030000Z
DTEND:20130518T050000Z
X-MICROSOFT-CDO-ALLDAYEVENT:FALSE
SUMMARY:Poway Center for the Performing Arts Foundation present the Eroica Trio
DESCRIPTION:The most sought-after trio in the world\, the Grammy -nominated Eroica Trio closes the Poway Center for the Performing Arts Foundation's 2012/2013 Professional Performance Season on May 17th at 8pm. Known for flawless technical virtuosity\, irresistible enthusiasm and sensual elegance\,  the three women who make up this celebrated ensemble Erika Nickrenz (piano)\, Sara Parkins (violin)\, and Sara Sant'Ambrogio (cello)  electrify the concert stage with their passionate performances.    They will be performing an eclectic concert featuring music from Astor Piazzolla\, George Gershwin\, Leonard Bernstein and   Brahms.   This performance is made possible by Carol Lazier and POW! Foundation supporters. \n\n	Pre-Concert Alfresco Dining:  A Season -end celebration\n\n	 \n\n	In addition to the outstanding performance by the Eroica Trio\, the concert will be preceded by a delightful Spanish-inspired tapas dinner catered by Caf  Merlot and served alfresco on the Center's Plaza.   Dinner service will be begin at 6pm and will feature assorted tapas accompanied by Wine Sangria and Wine Mojitos.  Ticket are $15 per person. To purchase dinner tickets visit www.powayarts.org.  \n\n	A ticket to the Eroica Trio concert is required to attend the dinner.
X-ALT-DESC;FMTTYPE=text/html:<p class="MsoNormal" style="margin: 0in 13.5pt 12pt 0in\; line-height: 150%\; background-position: initial initial\; background-repeat: initial initial\;">\n	<span style="font-size:11.0pt\;line-height:150%\;font-family:&quot\;Calibri&quot\;\,&quot\;sans-serif&quot\;\;\nmso-ascii-theme-font:minor-latin\;mso-fareast-font-family:&quot\;Times New Roman&quot\;\;\nmso-hansi-theme-font:minor-latin\;mso-bidi-font-family:Helvetica\;color:black\;\nmso-themecolor:text1">The most sought-after trio in the world\, the Grammy&reg\;-nominated <b>Eroica Trio</b> closes the Poway Center for the Performing Arts Foundation&rsquo\;s 2012/2013 Professional Performance Season on May 17<sup>th</sup> at 8pm. </span><span style="font-size:11.0pt\;line-height:\n150%\;font-family:&quot\;Calibri&quot\;\,&quot\;sans-serif&quot\;\;mso-ascii-theme-font:minor-latin\;\nmso-hansi-theme-font:minor-latin\;mso-bidi-font-family:Arial\;color:black\;\nmso-themecolor:text1">Known for flawless technical virtuosity\, irresistible enthusiasm and sensual elegance\,&nbsp\; the three women who make up this celebrated ensemble&mdash\;</span><b><span style="font-size:11.0pt\;line-height:150%\;font-family:&quot\;Calibri&quot\;\,&quot\;sans-serif&quot\;\;\nmso-ascii-theme-font:minor-latin\;mso-fareast-font-family:&quot\;Times New Roman&quot\;\;\nmso-hansi-theme-font:minor-latin\;mso-bidi-font-family:Helvetica\;color:black\;\nmso-themecolor:text1">Erik</span></b><b><span style="font-size:11.0pt\;line-height:150%\;font-family:&quot\;Calibri&quot\;\,&quot\;sans-serif&quot\;\;\nmso-ascii-theme-font:minor-latin\;mso-hansi-theme-font:minor-latin\;mso-bidi-font-family:\nHelvetica\;color:black\;mso-themecolor:text1">a Nickrenz</span></b><span style="font-size:11.0pt\;line-height:150%\;font-family:&quot\;Calibri&quot\;\,&quot\;sans-serif&quot\;\;\nmso-ascii-theme-font:minor-latin\;mso-hansi-theme-font:minor-latin\;mso-bidi-font-family:\nHelvetica\;color:black\;mso-themecolor:text1"> (piano)\, </span><b><span style="font-size:11.0pt\;line-height:\n150%\;font-family:&quot\;Calibri&quot\;\,&quot\;sans-serif&quot\;\;mso-ascii-theme-font:minor-latin\;\nmso-fareast-font-family:&quot\;Times New Roman&quot\;\;mso-hansi-theme-font:minor-latin\;\nmso-bidi-font-family:Helvetica\;color:black\;mso-themecolor:text1">Sara Parkins</span></b><span style="font-size:11.0pt\;line-height:150%\;font-family:&quot\;Calibri&quot\;\,&quot\;sans-serif&quot\;\;\nmso-ascii-theme-font:minor-latin\;mso-fareast-font-family:&quot\;Times New Roman&quot\;\;\nmso-hansi-theme-font:minor-latin\;mso-bidi-font-family:Helvetica\;color:black\;\nmso-themecolor:text1"> (violin)\, and <b>Sara Sant&#39\;Ambrogio</b> (cello) </span><span style="font-size:11.0pt\;line-height:\n150%\;font-family:&quot\;Calibri&quot\;\,&quot\;sans-serif&quot\;\;mso-ascii-theme-font:minor-latin\;\nmso-hansi-theme-font:minor-latin\;mso-bidi-font-family:Arial\;color:black\;\nmso-themecolor:text1">&mdash\;</span><span style="font-size:11.0pt\;line-height:150%\;\nfont-family:&quot\;Calibri&quot\;\,&quot\;sans-serif&quot\;\;mso-ascii-theme-font:minor-latin\;mso-fareast-font-family:\n&quot\;Times New Roman&quot\;\;mso-hansi-theme-font:minor-latin\;mso-bidi-font-family:Helvetica\;\ncolor:black\;mso-themecolor:text1">electrify the concert stage with their passionate performances. &nbsp\;&nbsp\;&nbsp\;They will be performing an eclectic concert featuring music from Astor Piazzolla\, George Gershwin\, Leonard Bernstein and &nbsp\;&nbsp\;Brahms.&nbsp\;&nbsp\; This performance is made possible by Carol Lazier and POW! Foundation supporters. <o:p></o:p></span></p>\n<p style="margin: 0in 0in 0.0001pt\; background-position: initial initial\; background-repeat: initial initial\;">\n	<b><span style="font-size:11.0pt\;font-family:\n&quot\;Calibri&quot\;\,&quot\;sans-serif&quot\;\;mso-ascii-theme-font:minor-latin\;mso-hansi-theme-font:\nminor-latin\;mso-bidi-font-family:Arial\;color:black\;mso-themecolor:text1">Pre-Concert Alfresco Dining:&nbsp\; A Season -end celebration<o:p></o:p></span></b></p>\n<p style="margin: 0in 0in 0.0001pt\; background-position: initial initial\; background-repeat: initial initial\;">\n	<b><span style="font-size:11.0pt\;font-family:\n&quot\;Calibri&quot\;\,&quot\;sans-serif&quot\;\;mso-ascii-theme-font:minor-latin\;mso-hansi-theme-font:\nminor-latin\;mso-bidi-font-family:Arial\;color:black\;mso-themecolor:text1">&nbsp\;</span></b></p>\n<p style="margin: 0in 0in 0.0001pt\; line-height: 150%\; background-position: initial initial\; background-repeat: initial initial\;">\n	<span style="font-size:11.0pt\;line-height:150%\;font-family:&quot\;Calibri&quot\;\,&quot\;sans-serif&quot\;\;\nmso-ascii-theme-font:minor-latin\;mso-hansi-theme-font:minor-latin\;mso-bidi-font-family:\nArial\;color:black\;mso-themecolor:text1">In addition to the outstanding performance by the Eroica Trio\, the concert will be preceded by a delightful Spanish-inspired tapas dinner catered by Caf&eacute\; Merlot and served alfresco on the Center&rsquo\;s Plaza.&nbsp\;&nbsp\; Dinner service will be begin at 6pm and will feature assorted tapas accompanied by Wine Sangria and Wine Mojitos.&nbsp\; Ticket are $15 per person. To purchase dinner tickets visit </span><a href="http://www.powayarts.org/"><span style="font-size:11.0pt\;line-height:150%\;font-family:&quot\;Calibri&quot\;\,&quot\;sans-serif&quot\;\;\nmso-ascii-theme-font:minor-latin\;mso-hansi-theme-font:minor-latin\;mso-bidi-font-family:\nArial\;color:black\;mso-themecolor:text1">www.powayarts.org</span></a><span style="font-size:11.0pt\;line-height:150%\;font-family:&quot\;Calibri&quot\;\,&quot\;sans-serif&quot\;\;\nmso-ascii-theme-font:minor-latin\;mso-hansi-theme-font:minor-latin\;mso-bidi-font-family:\nArial\;color:black\;mso-themecolor:text1">.&nbsp\; <o:p></o:p></span></p>\n<p style="margin: 0in 0in 0.0001pt\; line-height: 150%\; background-position: initial initial\; background-repeat: initial initial\;">\n	<u><span style="font-size:11.0pt\;line-height:150%\;font-family:&quot\;Calibri&quot\;\,&quot\;sans-serif&quot\;\;\nmso-ascii-theme-font:minor-latin\;mso-hansi-theme-font:minor-latin\;mso-bidi-font-family:\nArial\;color:black\;mso-themecolor:text1">A ticket to the Eroica Trio concert is required to attend the dinner.&nbsp\;<b><o:p></o:p></b></span></u></p>\n
LOCATION:Poway Center for the Performing Arts
UID:e.784.2892
SEQUENCE:3
DTSTAMP:20260421T223404Z
URL:https://chamber.sdbusinesschamber.com/events/details/poway-center-for-the-performing-arts-foundation-present-the-eroica-trio-05-17-2013-2892
END:VEVENT

END:VCALENDAR
