BEGIN:VCALENDAR
VERSION:2.0
PRODID:-//ChamberMaster//Event Calendar 2.0//EN
METHOD:PUBLISH
X-PUBLISHED-TTL:P3D
REFRESH-INTERVAL:P3D
CALSCALE:GREGORIAN
BEGIN:VEVENT
DTSTART:20201204T150000Z
DTEND:20201207T021500Z
X-MICROSOFT-CDO-ALLDAYEVENT:FALSE
SUMMARY:Poway Arcade Games Auction
DESCRIPTION:NorthCountyAuctions.Com\n\n\nLots start closing Sunday\, December 6\n\n6:15 PM  Pacific\n\nPoway\,  CA\n\nMadwave Theatre\, Firestorm Air Hockey\, Fast n Furious Super Bikes\, etc. To get upcoming auctions\, text ncauctions to 77222. Email or text with questions (619) 787-4906 or casey@northcountyauctions.com
X-ALT-DESC;FMTTYPE=text/html:<div>&nbsp\;\n<h3><a href="https://northcountyauctions.com" style="color: rgb(48\, 121\, 164)\; text-decoration-line: none\;">NorthCountyAuctions.Com</a></h3>\n</div>\n\n<div>Lots start closing Sunday\, December 6<br />\n6:15 PM &nbsp\;Pacific</div>\n\n<div>Poway\,&nbsp\;&nbsp\;CA</div>\n\n<div>Madwave Theatre\, Firestorm Air Hockey\, Fast n Furious Super Bikes\, etc. To get upcoming auctions\, text ncauctions to 77222. Email or text with questions (619) 787-4906 or casey@northcountyauctions.com</div>\n
LOCATION:12941 Poway Rd\, Poway\, CA 92064 https://northcountyauctions.com/
UID:e.784.26937
SEQUENCE:3
DTSTAMP:20260425T165751Z
URL:https://chamber.sdbusinesschamber.com/events/details/poway-arcade-games-auction-26937
END:VEVENT

END:VCALENDAR
