BEGIN:VCALENDAR
VERSION:2.0
PRODID:-//ChamberMaster//Event Calendar 2.0//EN
METHOD:PUBLISH
X-PUBLISHED-TTL:P3D
REFRESH-INTERVAL:P3D
CALSCALE:GREGORIAN
BEGIN:VEVENT
DTSTART:20210226T013000Z
DTEND:20210226T030000Z
X-MICROSOFT-CDO-ALLDAYEVENT:FALSE
SUMMARY:PMI Networking happy hour - Bringing a product to life
DESCRIPTION:Join us for a virtual happy hour with the Orange County Chapter of PMI.  During this social\, you will have an opportunity to meet the CEO and Co-Founder of Kove Hard Yerba Mate\, Alexander Montelbano\, who will be presenting the process of bringing a new alcoholic beverage product to life through a project management lens.  Learn how Kove infuses the art of living into their yerba mate.  And earn 1 PDU all the while!
X-ALT-DESC;FMTTYPE=text/html:<span style="background-color:rgb(255\, 255\, 255)\; font-family:verdana\,tahoma\,segoe\,sans-serif\; font-size:13px">Join us for a virtual happy hour with the Orange County Chapter of PMI.&nbsp\; During this social\, you will have an opportunity to meet the CEO and Co-Founder of Kove Hard Yerba Mate\, Alexander Montelbano\, who will be presenting the process of bringing a new alcoholic beverage product to life through a project management lens.&nbsp\; Learn how Kove infuses the art of living into their yerba mate.&nbsp\; And earn 1 PDU all the while!</span>
LOCATION:Virtual
UID:e.784.27241
SEQUENCE:3
DTSTAMP:20260425T142303Z
URL:https://chamber.sdbusinesschamber.com/events/details/pmi-networking-happy-hour-bringing-a-product-to-life-27241
END:VEVENT

END:VCALENDAR
