BEGIN:VCALENDAR
VERSION:2.0
PRODID:-//ChamberMaster//Event Calendar 2.0//EN
METHOD:PUBLISH
X-PUBLISHED-TTL:P3D
REFRESH-INTERVAL:P3D
CALSCALE:GREGORIAN
BEGIN:VEVENT
DTSTART:20131120T163000Z
DTEND:20131121T003000Z
X-MICROSOFT-CDO-ALLDAYEVENT:FALSE
SUMMARY:Pettit Kohn's Employment Law Symposium
DESCRIPTION:When was the last time you updated your employment policies? Whether you are a small business owner or a large employer\, it can still be confusing with the numerous\, complex state and federal laws that govern the California workplace. Pettit Kohn Ingrassia & Lutz's Employment & Labor team is pleased to offer a program designed to help you diagnose potential issues and comply with recent changes in the law. Attend this advanced-level program for human resource professionals\, supervisors and managers that will address significant employment law issues delivered in two informative sessions.\n\n \n\nWhat's on the Agenda?\n\n \n\nSESSION I - Employment Law Update (Lunch will be provided)\n\nWhat happened in 2013 and what you need to know to be prepared for 2014. The first session will include a discussion with guest speakers Jared Nichols and Michael Sinkeldam of Mercer Health and Benefits\, who will report on the Affordable Health Care Act. Other topics include:\n\n	\n		Wage & Hour Issues and Updates\n	\n		Recent Trends in Discrimination\, Harassment & Retaliation Claims\n	\n		Navigating Complex Leave of Absence and Disability Issues\n\n \n\nSESSION II - Required AB 1825 Sexual Harassment Avoidance Training\n\nThis training session will survey recent developments in harassment law with a particular emphasis on detecting\, addressing\, and preventing concerns to avoid potential liability.\n\n \n\nWho Should Attend? \n\nThis seminar is designed for human resource managers\, controllers\, accountants\, office managers\, payroll professionals\, finance directors\, presidents\, vice presidents\, CFOs\, operations managers\, and small business owners.\n\n \n\nRegistration Information\n\nThis annual employment law symposium will be held on Wednesday\, November 20\, 2013 at the Hilton San Diego Resort (Mission Bay). Registration check-in and continental breakfast begin at 7:30 AM with the first session starting at 8:30 AM.\n\n \n\nThis program has been approved for 6.25 credit hours (for both sessions) toward PHR\, SPHR and GPHR recertification through the Human Resource Certification Institute. \n\n \n\nWhat's the Cost?\n\n	\n		Register and pay online now\n	\n		Mail or Fax your registration form along with payment\n\n \n\nWhat's the Cost?\n\nBoth Session I & II Employment Law Update plus Sexual Harassment Avoidance Training\n\n$175 before October 26th ($200 after) Session I price includes free admission to Session II\n\nSESSION I (ONLY) Employment Law Update - $175 before October 26th ($200 after).\n\nSESSION II (ONLY) Sexual Harassment Avoidance Training - $50/per person\n\n \n\nFor more information email us at events@pettitkohn.com or contact Cathy Johnson or Lana Tiley at (858) 755-8500.
X-ALT-DESC;FMTTYPE=text/html:<span style="font-size: medium\;"><span style="font-family: calibri\;"><span style="font-size: medium\;"><span style="font-family: calibri\;">When was the last time you updated your employment policies? Whether you are a small business owner or a large employer\, it can still be confusing with the numerous\, complex state and federal laws that govern the California workplace. Pettit Kohn Ingrassia &amp\; Lutz&rsquo\;s Employment &amp\; Labor team&nbsp\;is pleased to&nbsp\;offer a program designed to help you diagnose potential issues and&nbsp\;comply with recent changes in the law.&nbsp\;Attend this advanced-level program for human resource professionals\, supervisors and managers that will address significant employment law issues delivered in two informative sessions.</span></span><br />\n&nbsp\;<br />\n<strong><span style="font-size: medium\;"><span style="font-family: calibri\;">What&rsquo\;s on the Agenda?</span></span></strong><br />\n&nbsp\;<br />\n<span style="font-size: medium\;"><span style="font-family: calibri\;"><strong>SESSION I - Employment Law&nbsp\;Update (Lunch will be provided)</strong><br />\nWhat happened in 2013 and what you need to know to be prepared for 2014. The first session will include a discussion with guest speakers <u>Jared Nichols</u> and <u>Michael Sinkeldam</u> of Mercer Health and Benefits\, who will report on the <strong>Affordable Health Care Act</strong>. Other topics include:</span></span></span></span>\n<ul>\n	<li>\n		<span style="font-size: medium\;"><span style="font-family: calibri\;"><span style="font-size: medium\;"><span style="font-family: calibri\;">Wage &amp\; Hour Issues and Updates</span></span></span></span></li>\n	<li>\n		<span style="font-size: medium\;"><span style="font-family: calibri\;"><span style="font-size: medium\;"><span style="font-family: calibri\;">Recent Trends in Discrimination\, Harassment &amp\; Retaliation Claims</span></span></span></span></li>\n	<li>\n		<span style="font-size: medium\;"><span style="font-family: calibri\;"><span style="font-size: medium\;"><span style="font-family: calibri\;">Navigating Complex Leave of Absence and Disability Issues</span></span></span></span></li>\n</ul>\n<span style="font-size: medium\;"><span style="font-family: calibri\;">&nbsp\;<br />\n<strong><span style="font-size: medium\;"><span style="font-family: calibri\;">SESSION II - Required AB 1825 Sexual Harassment Avoidance Training</span></span></strong><br />\n<span style="font-size: medium\;"><span style="font-family: calibri\;">This training session will survey recent developments in harassment law with a particular emphasis on detecting\, addressing\, and preventing concerns to avoid potential liability.</span></span><br />\n&nbsp\;<br />\n<strong><span style="font-size: medium\;"><span style="font-family: calibri\;">Who Should Attend?&nbsp\;</span></span></strong><br />\n<span style="font-size: medium\;"><span style="font-family: calibri\;">This seminar is designed for human resource managers\, controllers\, accountants\, office managers\, payroll professionals\, finance directors\, presidents\, vice presidents\, CFOs\, operations managers\, and small business owners.</span></span><br />\n&nbsp\;<br />\n<strong><span style="font-size: medium\;"><span style="font-family: calibri\;">Registration Information</span></span></strong><br />\n<span style="font-size: medium\;"><span style="font-family: calibri\;">This&nbsp\;annual employment law symposium will be held on <strong>Wednesday\, November 20\, 2013</strong> at the Hilton San Diego Resort (Mission Bay). Registration check-in and continental breakfast begin at 7:30 AM with the first session starting at 8:30 AM.</span></span><br />\n&nbsp\;<br />\n<span style="font-size: medium\;"><span style="font-family: calibri\;">This program has been approved for 6.25 credit hours (for both sessions) toward PHR\, SPHR and GPHR recertification through the Human Resource Certification Institute. </span></span><br />\n&nbsp\;<br />\n<strong><span style="font-size: medium\;"><span style="font-family: calibri\;">What&rsquo\;s the Cost?</span></span></strong></span></span>\n<ul>\n	<li>\n		<span style="font-size: medium\;"><span style="font-family: calibri\;"><span style="font-size: medium\;"><span style="font-family: calibri\;">Register and pay </span></span><a href="http://www.pettitkohn.com/index.php?pr=2013_Annual_Employment_Law_Symposium&amp\;nosessionkill=1" target="_blank" title="2013  Employment Law Symposium"><span style="font-size: medium\;"><span style="font-family: calibri\;"><span style="color: rgb(0\, 0\, 255)\;">online</span></span></span></a><span style="font-size: medium\;"><span style="font-family: calibri\;"> now</span></span></span></span></li>\n	<li>\n		<span style="font-size: medium\;"><span style="font-family: calibri\;"><span style="font-size: medium\;"><span style="font-family: calibri\;">Mail or Fax your </span></span><a href="file:///P:/Employment%20Symposium/2013%20Symposium/Pettit-Kohn-Symposium-RegForm-2013.pdf"><span style="font-size: medium\;"><span style="font-family: calibri\;"><span style="color: rgb(0\, 0\, 255)\;">registration form</span></span></span></a><span style="font-size: medium\;"><span style="font-family: calibri\;"> along with payment</span></span></span></span></li>\n</ul>\n<span style="font-size: medium\;"><span style="font-family: calibri\;">&nbsp\;<br />\n<strong><span style="font-size: medium\;"><span style="font-family: calibri\;">What&rsquo\;s the Cost?</span></span></strong><br />\n<span style="font-size: medium\;"><span style="font-family: calibri\;">Both Session <strong>I</strong> &amp\; <strong>II</strong> Employment Law Update <em>plus</em> Sexual Harassment Avoidance Training</span></span><br />\n<span style="font-size: medium\;"><span style="font-family: calibri\;">$175 before October 26<sup><span style="font-size: small\;">th</span></sup></span> ($200 after) <em><span style="font-size: medium\;">Session I price includes free admission to Session II</span></em></span><br />\n<span style="font-size: medium\;"><span style="font-family: calibri\;">SESSION <strong>I</strong> (ONLY) Employment Law Update - $175 before October 26<sup><span style="font-size: small\;">th</span></sup></span> ($200 after).</span><br />\n<span style="font-size: medium\;"><span style="font-family: calibri\;">SESSION <strong>II</strong> (ONLY) Sexual Harassment Avoidance Training - $50/per person</span></span><br />\n&nbsp\;<br />\n<span style="font-size: medium\;"><span style="font-family: calibri\;">For more information email us&nbsp\;at </span></span><a href="mailto:events@pettitkohn.com"><span style="font-size: medium\;"><span style="font-family: calibri\;"><span style="color: rgb(0\, 0\, 255)\;">events@pettitkohn.com</span></span></span></a><span style="font-size: medium\;"><span style="font-family: calibri\;">&nbsp\;or&nbsp\;contact&nbsp\;Cathy Johnson or Lana Tiley at (858) 755-8500.</span></span></span></span><br />\n
LOCATION:Hilton San Diego Resort (Mission Bay)\, 1775 East Mission Bay Drive\, San Diego\, CA 92109
UID:e.784.2982
SEQUENCE:3
DTSTAMP:20260421T113437Z
URL:https://chamber.sdbusinesschamber.com/events/details/pettit-kohn-s-employment-law-symposium-11-20-2013-2982
END:VEVENT

END:VCALENDAR
