BEGIN:VCALENDAR
VERSION:2.0
PRODID:-//ChamberMaster//Event Calendar 2.0//EN
METHOD:PUBLISH
X-PUBLISHED-TTL:P3D
REFRESH-INTERVAL:P3D
CALSCALE:GREGORIAN
BEGIN:VEVENT
DTSTART:20260424T190000Z
DTEND:20260424T230000Z
X-MICROSOFT-CDO-ALLDAYEVENT:FALSE
SUMMARY:Party City Launch at Staples
DESCRIPTION:Come join us at Staples to launch Party City in stores. We now do balloons and have Party supplies
X-ALT-DESC;FMTTYPE=text/html:Come join us at Staples to launch Party City in stores. We now do balloons and have Party supplies
LOCATION:11160 Rancho Carmel Dr San Diego\, CA 92128
UID:e.784.35750
SEQUENCE:3
DTSTAMP:20260423T190227Z
URL:https://chamber.sdbusinesschamber.com/events/details/party-city-launch-at-staples-35750
END:VEVENT

END:VCALENDAR
