BEGIN:VCALENDAR
VERSION:2.0
PRODID:-//ChamberMaster//Event Calendar 2.0//EN
METHOD:PUBLISH
X-PUBLISHED-TTL:P3D
REFRESH-INTERVAL:P3D
CALSCALE:GREGORIAN
BEGIN:VEVENT
DTSTART:20130323T003000Z
DTEND:20130323T040000Z
X-MICROSOFT-CDO-ALLDAYEVENT:FALSE
SUMMARY:Our Heroes\, A Night Celebrating our Military\,Police\, Firefighters & Teachers
DESCRIPTION:Join us Friday\, March 22nd as we celebrate OUR HEROES.\n\nLive band\, happy hour drink and appetizer prices all night\, barbecue on the patio and fabulous raffle prizes.\n\n\n\nGrand Prize: Two night stay in a Deluxe Fairway King\, breakfast for 2 each day\, an in-room massage for 2 plus 2 rounds of golf for 2!\n\n\n\n5:30 p.m. -9:00 p.m.
X-ALT-DESC;FMTTYPE=text/html:Join us Friday\, March 22nd as we celebrate OUR HEROES.<br />\nLive band\, happy hour drink and appetizer prices all night\, barbecue on the patio and fabulous raffle prizes.<br />\n<br />\nGrand Prize: Two night stay in a Deluxe Fairway King\, breakfast for 2 each day\, an in-room massage for 2 plus 2 rounds of golf for 2!<br />\n<br />\n5:30 p.m. -9:00 p.m.<br />\n<br />\n
LOCATION:Mulligan's Bar & Grill\, Doubletree by Hilton Golf Resort 14455 Penasquitos Dr.\, San Diego CA 92129
UID:e.784.2853
SEQUENCE:3
DTSTAMP:20260422T003032Z
URL:https://chamber.sdbusinesschamber.com/events/details/our-heroes-a-night-celebrating-our-military-police-firefighters-teachers-03-22-2013-2853
END:VEVENT

END:VCALENDAR
