BEGIN:VCALENDAR
VERSION:2.0
PRODID:-//ChamberMaster//Event Calendar 2.0//EN
METHOD:PUBLISH
X-PUBLISHED-TTL:P3D
REFRESH-INTERVAL:P3D
CALSCALE:GREGORIAN
BEGIN:VEVENT
DTSTART:20121108T204500Z
DTEND:20121108T214500Z
X-MICROSOFT-CDO-ALLDAYEVENT:FALSE
SUMMARY:Osteoarthritis Educational Seminar
DESCRIPTION:Suffering from OA knee pain?\n\n	 \n\n	Local practitioner Dr. Cheryl Wright\, MD\, will lead an osteoarthritis educational seminar on common osteoarthritis misconceptions\, signs and symptoms of OA\, as well as the latest treatment options. She also will be available to answer questions.\n\n	 \n\n	Please RSVP by calling Membership Services at (858) 484-8788. Non-members will also need to fill out a Branch Waiver.
X-ALT-DESC;FMTTYPE=text/html:<p class="MsoNormal" style="margin: 0in 0in 0pt">\n	<font size="3"><font color="#000000"><font face="Calibri">Suffering from OA knee pain?</font></font></font></p>\n<p class="MsoNormal" style="margin: 0in 0in 0pt">\n	<font color="#000000" face="Calibri" size="3">&nbsp\;</font></p>\n<p class="MsoNormal" style="margin: 0in 0in 0pt">\n	<font color="#000000"><font face="Calibri"><font size="3">Local practitioner Dr. Cheryl Wright\, MD\, will lead an osteoarthritis educational seminar on common osteoarthritis misconceptions\, signs and symptoms of OA\, as well as the latest treatment options. She also will be available to answer questions.</font></font></font><br />\n	&nbsp\;</p>\n<p class="MsoNormal" style="margin: 0in 0in 0pt">\n	<font color="#000000"><font face="Calibri"><font size="3"><font face="">Please RSVP by calling Membership Services at (858) 484-8788. Non-members will also need to fill out a Branch Waiver.<o:p></o:p></font></font></font></font></p>\n
LOCATION:Rancho Family YMCA Multipurpose Room 9410 Fairgrove Lane\, San Diego\, CA 92129
UID:e.784.2686
SEQUENCE:3
DTSTAMP:20260422T062833Z
URL:https://chamber.sdbusinesschamber.com/events/details/osteoarthritis-educational-seminar-11-08-2012-2686
END:VEVENT

END:VCALENDAR
