BEGIN:VCALENDAR
VERSION:2.0
PRODID:-//ChamberMaster//Event Calendar 2.0//EN
METHOD:PUBLISH
X-PUBLISHED-TTL:P3D
REFRESH-INTERVAL:P3D
CALSCALE:GREGORIAN
BEGIN:VEVENT
DTSTART:20120906T194500Z
DTEND:20120906T204500Z
X-MICROSOFT-CDO-ALLDAYEVENT:FALSE
SUMMARY:Osteoarthritis Educational Seminar
DESCRIPTION:Osteoarthritis Educational Seminar \n\n	"Know Your Knees: Managing Osteoarthritis & the Latest Treatment Options"\n\n	Suffering from OA knee pain?\n\n	Local practitioner Dr. Cheryl Wright\, MD\, will lead an osteoarthritis educational seminar on common osteoarthritis misconceptions\, signs and symptoms\, as well as the latest treatment options. She also will be available to answer questions.
X-ALT-DESC;FMTTYPE=text/html:<font face="Avenir-Heavy" size="6"><font face="Avenir-Heavy" size="6">Osteoarthritis Educational Seminar</font></font><font face="Avenir-Medium" size="6"><font face="Avenir-Medium" size="6"> </font></font>\n<p align="left">\n	<font face="Avenir-Medium" size="6"><font face="Avenir-Medium" size="6">&ldquo\;Know Your Knees: Managing Osteoarthritis &amp\; the Latest Treatment Options&rdquo\;</font></font></p>\n<p align="left">\n	<font face="Avenir-Medium" size="5"><font face="Avenir-Medium" size="5">Suffering from OA knee pain?</font></font></p>\n<p align="left">\n	<font face="Avenir-Medium" size="5"><font face="Avenir-Medium" size="5">Local practitioner Dr. Cheryl Wright\, MD\, will lead an osteoarthritis educational seminar on common osteoarthritis misconceptions\, signs and symptoms\, as well as the latest treatment options. She also will be available to answer questions.</font></font></p>\n
LOCATION:Rancho Family YMCA | 9410 Fairgrove Lane\, San Diego\, CA 92129
UID:e.784.2681
SEQUENCE:3
DTSTAMP:20260422T092247Z
URL:https://chamber.sdbusinesschamber.com/events/details/osteoarthritis-educational-seminar-09-06-2012-2681
END:VEVENT

END:VCALENDAR
