BEGIN:VCALENDAR
VERSION:2.0
PRODID:-//ChamberMaster//Event Calendar 2.0//EN
METHOD:PUBLISH
X-PUBLISHED-TTL:P3D
REFRESH-INTERVAL:P3D
CALSCALE:GREGORIAN
BEGIN:VEVENT
DTSTART:20130331T030000Z
DTEND:20130331T050000Z
X-MICROSOFT-CDO-ALLDAYEVENT:FALSE
SUMMARY:Opera a la Carte presents Gilbert & Sullivan's Pirates of Penzance
DESCRIPTION:Stash the gold\, guard the women and hide the rum   the "Pirates" have arrived! Set sail across our stage on this swashbuckling Gilbert and Sullivan adventure loaded with enough laughs to fill Davey Jones' locker. Pirates of Penzance follows the fortunes of Frederic\, a young lad who is mistakenly apprenticed to the Pirate King. When Frederic falls for the lovely Mabel\, whose father is the very model of a modern Major General\, a tempest brews on the sea of love. Full of roving rogues and dazzling damsels in distress\, it's a treasure chest full of mischievous musical mayhem.  A topsy-turvy tale of love and duty highlighted by the famous strains of "Poor Wandering One\," "I Am the Very Model of a Modern Major-General\," "Oh\, Is There Not One Maiden Breast" and more.  Featuring more than 20 performers and a full orchestra\, Pirates of Penzance will light up the Poway stage!
X-ALT-DESC;FMTTYPE=text/html:<p class="MsoNormal" style="margin: 0in 0in 0pt">\n	<font size="3"><font color="#000000"><font face="Calibri">Stash the gold\, guard the women and hide the rum &ndash\; the &ldquo\;Pirates&rdquo\; have arrived! Set sail across our stage on this swashbuckling Gilbert and Sullivan adventure loaded with enough laughs to fill Davey Jones&rsquo\; locker. <i style="mso-bidi-font-style: normal">Pirates of Penzance</i> follows the fortunes of Frederic\, a young lad who is mistakenly apprenticed to the Pirate King. When Frederic falls for the lovely Mabel\, whose father is the very model of a modern Major General\, a tempest brews on the sea of love. Full of roving rogues and dazzling damsels in distress\, it&rsquo\;s a treasure chest full of mischievous musical mayhem.<span style="mso-spacerun: yes">&nbsp\; </span>A topsy-turvy tale of love and duty highlighted by the famous strains of &quot\;Poor Wandering One\,&quot\; &quot\;I Am the Very Model of a Modern Major-General\,&quot\; &quot\;Oh\, Is There Not One Maiden Breast&quot\; and more.<span style="mso-spacerun: yes">&nbsp\; </span>Featuring more than 20 performers and a full orchestra\, <i style="mso-bidi-font-style: normal">Pirates of Penzance</i> will light up the Poway stage!<o:p></o:p></font></font></font></p>\n<p class="MsoNormal" style="line-height: normal\; margin: 0in 0in 10pt">\n	<o:p><font color="#000000" face="Calibri" size="3">&nbsp\;</font></o:p></p>\n
LOCATION:Poway Center for the Performing Arts 15498 Espola Road\, Poway\, CA 92064
UID:e.784.2667
SEQUENCE:3
DTSTAMP:20260422T015111Z
URL:https://chamber.sdbusinesschamber.com/events/details/opera-a-la-carte-presents-gilbert-sullivan-s-pirates-of-penzance-03-30-2013-2667
END:VEVENT

END:VCALENDAR
