BEGIN:VCALENDAR
VERSION:2.0
PRODID:-//ChamberMaster//Event Calendar 2.0//EN
METHOD:PUBLISH
X-PUBLISHED-TTL:P3D
REFRESH-INTERVAL:P3D
CALSCALE:GREGORIAN
BEGIN:VEVENT
DTSTART:20100925T200000Z
DTEND:20100925T230000Z
X-MICROSOFT-CDO-ALLDAYEVENT:FALSE
SUMMARY:Open House Celebration at Sylvan Learning Center of Rancho Bernardo
DESCRIPTION:Open House for the Rancho Bernardo Sylvan Learning Center\, the leading provider of in-center and live\, online tutoring to students of all ages\, grades\, and skill levels.\n\n\n\nWith approximately 30 years of experience and nearly 1\,200 centers located throughout North America\, Sylvan?s proven process and personalized methods have inspired more than 2 million students to discover the joy of learning.  Sylvan?s trained and certified personal instructors provide individual instruction in reading\, writing\, mathematics\, study skills\, and test-prep for college entrance and state exams.  Sylvan helps transform unique kids into uniquely inspired learners with the skills to do better in school and the confidence to better in everything else.  For more information call\, 858-451-2822 or visit www.sylvanlearning.com/ranchobernardotutors\n\n\n\nLearn all about our Reading\, Writing\, Math\, Study Skills and College Prep Programs as you walk through our interactive displays.\n\n\n\nDoor Prizes and Raffles every 30 minutes plus the first 10 students through the door receive free initial diagnostic assessments.\n\n\n\nOngoing Book Adventure.com Demos\, a free online reading motivational tool for children in grades K-8 with sections dedicated to teachers and parents.\n\n\n\nSpecial Offers for all who Attend and Refreshments
X-ALT-DESC;FMTTYPE=text/html:Open House for the Rancho Bernardo Sylvan Learning Center\, the leading provider of in-center and live\, online tutoring to students of all ages\, grades\, and skill levels.\n<br>\n<br>With approximately 30 years of experience and nearly 1\,200 centers located throughout North America\, Sylvan?s proven process and personalized methods have inspired more than 2 million students to discover the joy of learning.  Sylvan?s trained and certified personal instructors provide individual instruction in reading\, writing\, mathematics\, study skills\, and test-prep for college entrance and state exams.  Sylvan helps transform unique kids into uniquely inspired learners with the skills to do better in school and the confidence to better in everything else.  For more information call\, 858-451-2822 or visit www.sylvanlearning.com/ranchobernardotutors\n<br>\n<br>Learn all about our Reading\, Writing\, Math\, Study Skills and College Prep Programs as you walk through our interactive displays.\n<br>\n<br>Door Prizes and Raffles every 30 minutes plus the first 10 students through the door receive free initial diagnostic assessments.\n<br>\n<br>Ongoing Book Adventure.com Demos\, a free online reading motivational tool for children in grades K-8 with sections dedicated to teachers and parents.\n<br>\n<br>Special Offers for all who Attend and Refreshments
LOCATION:16776 Bernardo Center Drive\, Suite 103\, San Diego\, CA 92128
UID:e.784.1823
SEQUENCE:3
DTSTAMP:20260423T195628Z
URL:https://chamber.sdbusinesschamber.com/events/details/open-house-celebration-at-sylvan-learning-center-of-rancho-bernardo-09-25-2010-1823
END:VEVENT

END:VCALENDAR
