BEGIN:VCALENDAR
VERSION:2.0
PRODID:-//ChamberMaster//Event Calendar 2.0//EN
METHOD:PUBLISH
X-PUBLISHED-TTL:P3D
REFRESH-INTERVAL:P3D
CALSCALE:GREGORIAN
BEGIN:VEVENT
DTSTART:20100526T070000Z
DTEND:20100526T070000Z
X-MICROSOFT-CDO-ALLDAYEVENT:FALSE
SUMMARY:Open House
DESCRIPTION:Attend our Open House. Edward Jones is currently seeking individuals who are self-motivated and sales-oriented and enjoy working independently as a Financial Advisor in San Diego. Hors D'oeuvres willbe served.
X-ALT-DESC;FMTTYPE=text/html:Attend our Open House. Edward Jones is currently seeking individuals who are self-motivated and sales-oriented and enjoy working independently as a Financial Advisor in San Diego. Hors D'oeuvres willbe served.
LOCATION:Edward Jones
UID:e.784.-173
SEQUENCE:3
DTSTAMP:20260424T012145Z
URL:https://chamber.sdbusinesschamber.com/events/details/open-house-05-26-2010
END:VEVENT

END:VCALENDAR
