BEGIN:VCALENDAR
VERSION:2.0
PRODID:-//ChamberMaster//Event Calendar 2.0//EN
METHOD:PUBLISH
X-PUBLISHED-TTL:P3D
REFRESH-INTERVAL:P3D
CALSCALE:GREGORIAN
BEGIN:VEVENT
DTSTART:20120923T030000Z
DTEND:20120923T050000Z
X-MICROSOFT-CDO-ALLDAYEVENT:FALSE
SUMMARY:Oh Berkley\, Where Hart Thou?
DESCRIPTION:An all-star line-up of San Diego country\, folk\, rock and bluegrass musicians gather to recreate the Grammy Award winning soundtrack to Oh Brother Where Art Thou performed "Grand Ol' Opry style" Legendary songs "Man of Constant Sorrow\," "In the Jailhouse Now\," "Oh Death\," "I'll Fly Away" and more will receive a modern update from the likes of Eve Selis\, Sean and Sara Watkins\, Tim Flannery\, Berkley Hart\, the Seventh Day Buskers\, Lisa Sanders and more.\n\n	Oh Berkley Where Hart Thou? is the brain child of local award-winning acoustic duo Jeff Berkley and Calman Hart (aka: Berkley Hart).
X-ALT-DESC;FMTTYPE=text/html:<p class="MsoNormal" style="margin: 0in 0in 10pt">\n	<font size="3"><font color="#000000"><font face="Calibri">An all-star line-up of San Diego country\, folk\, rock and bluegrass musicians gather to recreate the Grammy Award winning soundtrack to <i style="mso-bidi-font-style: normal">Oh Brother Where Art Thou</i> performed &ldquo\;Grand Ol&rsquo\; Opry style&rdquo\; Legendary songs &ldquo\;Man of Constant Sorrow\,&rdquo\; &ldquo\;In the Jailhouse Now\,&rdquo\; &ldquo\;Oh Death\,&rdquo\; &ldquo\;I&rsquo\;ll Fly Away&rdquo\; and more will receive a modern update from the likes of Eve Selis\, Sean and Sara Watkins\, Tim Flannery\, Berkley Hart\, the Seventh Day Buskers\, Lisa Sanders and more.<o:p></o:p></font></font></font></p>\n<p class="MsoNormal" style="margin: 0in 0in 10pt">\n	<font size="3"><font color="#000000"><font face="Calibri">Oh Berkley Where Hart Thou? is the brain child of local award-winning acoustic duo Jeff Berkley and Calman Hart (aka: Berkley Hart).<span style="mso-spacerun: yes">&nbsp\;&nbsp\; </span></font></font></font><o:p></o:p></p>\n
LOCATION:Poway Center for the Performing Arts 15498 Espola Road\, Poway\, CA 92064
UID:e.784.2660
SEQUENCE:3
DTSTAMP:20260422T105405Z
URL:https://chamber.sdbusinesschamber.com/events/details/oh-berkley-where-hart-thou-09-22-2012-2660
END:VEVENT

END:VCALENDAR
