BEGIN:VCALENDAR
VERSION:2.0
PRODID:-//ChamberMaster//Event Calendar 2.0//EN
METHOD:PUBLISH
X-PUBLISHED-TTL:P3D
REFRESH-INTERVAL:P3D
CALSCALE:GREGORIAN
BEGIN:VEVENT
DTSTART;VALUE=DATE:20100814
DTEND;VALUE=DATE:20100816
TRANSP:TRANSPARENT
X-MICROSOFT-CDO-ALLDAYEVENT:TRUE
SUMMARY:Oceanside Yacht Club Charity Regatta
DESCRIPTION:The Oceanside Yacht Club (OYC) is hosting the eighth annual Charity Regatta to benefit The Elizabeth Hospice August 14-15 at OYC located at 1950 Harbor Drive North\, Oceanside.   The regatta and all activities are open to the public free of charge.\n\n\n\nThe two-day event commences with sailboat races on Saturday\, August 14 at 11:30am.  \n\nLive bands and a silent auction will take place throughout the weekend.  Food and drink are available for purchase starting at 1pm on both days. The public can join the fun ?on the water? and board a luxury powerboat or sail on a racing boat for a $100 donation to The Elizabeth Hospice.\n\n\n\nTo make a contribution\, register for the race or learn more about the weekend activities visit www.oceansideyc.com or contact OYC at (760) 722-5751. \n\n\n\nThe Elizabeth Hospice has a 32-year tradition as the premier provider of medical\, emotional and spiritual support to the terminally ill and their families. Since opening its doors\, The Elizabeth Hospice has provided services to more than 78\,000 patients and families in northern San Diego County neighborhoods regardless of their ability to pay. To learn more about The Elizabeth Hospice\, call (760) 737-2050 or visit www.elizabethhospice.org. \n\n\n\n###
X-ALT-DESC;FMTTYPE=text/html:The Oceanside Yacht Club (OYC) is hosting the eighth annual Charity Regatta to benefit The Elizabeth Hospice August 14-15 at OYC located at 1950 Harbor Drive North\, Oceanside.   The regatta and all activities are open to the public free of charge.\n<br>\n<br>The two-day event commences with sailboat races on Saturday\, August 14 at 11:30am.  \n<br>Live bands and a silent auction will take place throughout the weekend.  Food and drink are available for purchase starting at 1pm on both days. The public can join the fun ?on the water? and board a luxury powerboat or sail on a racing boat for a $100 donation to The Elizabeth Hospice.\n<br>\n<br>To make a contribution\, register for the race or learn more about the weekend activities visit www.oceansideyc.com or contact OYC at (760) 722-5751. \n<br>\n<br>The Elizabeth Hospice has a 32-year tradition as the premier provider of medical\, emotional and spiritual support to the terminally ill and their families. Since opening its doors\, The Elizabeth Hospice has provided services to more than 78\,000 patients and families in northern San Diego County neighborhoods regardless of their ability to pay. To learn more about The Elizabeth Hospice\, call (760) 737-2050 or visit www.elizabethhospice.org. \n<br>\n<br>###\n<br>
LOCATION:Oceanside Harbor located at 1950 Harbor Drive North
UID:e.784.1783
SEQUENCE:3
DTSTAMP:20260423T225105Z
URL:https://chamber.sdbusinesschamber.com/events/details/oceanside-yacht-club-charity-regatta-08-14-2010-1783
END:VEVENT

END:VCALENDAR
