BEGIN:VCALENDAR
VERSION:2.0
PRODID:-//ChamberMaster//Event Calendar 2.0//EN
METHOD:PUBLISH
X-PUBLISHED-TTL:P3D
REFRESH-INTERVAL:P3D
CALSCALE:GREGORIAN
BEGIN:VEVENT
DTSTART:20130810T160000Z
DTEND:20130810T190000Z
X-MICROSOFT-CDO-ALLDAYEVENT:FALSE
SUMMARY:North County Health Services: Annual Health Fair
DESCRIPTION:North County Health Services (NCHS) is marking National Health Center Week 2013 by hosting their 5th Annual Summer Health Fair\, "Back to School   Your Passport to a Healthy Year" on Saturday\, August 10th from 9am-12pm\, as part of a weeklong campaign (August 11-17) to raise awareness about the mission and accomplishments of America's Health Centers as local solutions for affordable and accessible health care.\n\n	Not only has North County Health Services (NCHS)  been dedicated to helping those in North County receive quality healthcare for over 40 years\, by offering low to no-cost services to the under and uninsured\, but are also dedicated to providing a healthy start. The goal of this year's health fair is to help hundreds of families in the community with free health & dental screenings\, educational information on healthy snacks\, back to school supplies and - tons of fun!
X-ALT-DESC;FMTTYPE=text/html:<p class="MsoNormal" style="margin: 0in 0in 0pt\; text-align: justify\;">\n	<span style="font-family: &quot\;Arial&quot\;\,&quot\;sans-serif&quot\;\;"><font color="#000000"><font size="3">North County Health Services (NCHS) is marking National Health Center Week 2013 by hosting their </font><b><font size="3">5</font><sup><font size="2">th</font></sup><font size="3"> Annual Summer Health Fair</font></b><font size="3">\, <i>&ldquo\;Back to School &ndash\; Your Passport to a Healthy Year&rdquo\;</i></font><font size="3"> on Saturday\, August </font><font size="3">10</font><sup><font size="2">th</font></sup><font size="3"> from 9am-12pm\, as part of a weeklong campaign (August 11-17) to raise awareness about the mission and accomplishments of America&rsquo\;s Health Centers as local solutions for affordable and accessible health care.<o:p></o:p></font></font></span></p>\n<p class="MsoNormal" style="margin: 0in 0in 0pt\;">\n	<span style="font-family: &quot\;Arial&quot\;\,&quot\;sans-serif&quot\;\;"><font size="3"><font color="#000000">Not only has North County Health Services (NCHS)&nbsp\; been dedicated to helping those in North County receive quality healthcare for over 40 years\, by offering low to no-cost services to the under and uninsured\, but are also dedicated to providing a healthy start. The goal of this year&rsquo\;s health fair is to help hundreds of families in the community with free health &amp\; dental screenings\, educational information on healthy snacks\, back to school supplies and - tons of fun! <o:p></o:p></font></font></span></p>\n
LOCATION:North County Health Services ? San Marcos location: 150 Valpreda Road\, San Marcos\, CA 92069
UID:e.784.2926
SEQUENCE:3
DTSTAMP:20260421T160003Z
URL:https://chamber.sdbusinesschamber.com/events/details/north-county-health-services-annual-health-fair-08-10-2013-2926
END:VEVENT

END:VCALENDAR
