BEGIN:VCALENDAR
VERSION:2.0
PRODID:-//ChamberMaster//Event Calendar 2.0//EN
METHOD:PUBLISH
X-PUBLISHED-TTL:P3D
REFRESH-INTERVAL:P3D
CALSCALE:GREGORIAN
BEGIN:VEVENT
DTSTART:20100919T030000Z
DTEND:20100919T050000Z
X-MICROSOFT-CDO-ALLDAYEVENT:FALSE
SUMMARY:No Reservations: ''An Evening with Anthony Bourdain''
DESCRIPTION:Anthony Bourdain\, the internationally acclaimed chef\, author\, and host of Travel Channel's "No Reservations\," has traveled to the farthest reaches of the globe\, and now comes to the Center for one night only. He has been dubbed "the bad boy of cuisine" for his rock star looks and blunt observations about the world of restaurants\, chefs and cooking. In this rare\, uncensored\, live appearance\, Tony will share the fascinating\, hysterical\, and sometimes shocking stories behind his life. He's controversial\, opinionated and always entertaining.  \nContains mature content.
X-ALT-DESC;FMTTYPE=text/html:<div>Anthony Bourdain\, the internationally acclaimed chef\, author\, and host of Travel Channel's &quot\;No Reservations\,&quot\; has traveled to the farthest reaches of the globe\, and now comes to the Center for one night only. He has been dubbed &quot\;the bad boy of cuisine&quot\; for his rock star looks and blunt observations about the world of restaurants\, chefs and cooking. In this rare\, uncensored\, live appearance\, Tony will share the fascinating\, hysterical\, and sometimes shocking stories behind his life. He&rsquo\;s controversial\, opinionated and always entertaining.  <br />Contains mature content.</div>
LOCATION:California Center for the Arts\, Escondido
UID:e.784.1818
SEQUENCE:3
DTSTAMP:20260423T205603Z
URL:https://chamber.sdbusinesschamber.com/events/details/no-reservations-an-evening-with-anthony-bourdain-09-18-2010-1818
END:VEVENT

END:VCALENDAR
