BEGIN:VCALENDAR
VERSION:2.0
PRODID:-//ChamberMaster//Event Calendar 2.0//EN
METHOD:PUBLISH
X-PUBLISHED-TTL:P3D
REFRESH-INTERVAL:P3D
CALSCALE:GREGORIAN
BEGIN:VEVENT
DTSTART:20200927T000000Z
DTEND:20200927T010000Z
X-MICROSOFT-CDO-ALLDAYEVENT:FALSE
SUMMARY:Neighborhood Healthcare 22nd Annual Pace Setter
DESCRIPTION:The virtual Pace Setter will include entertainment\, a patient story\, awarding our Servant Leader honoree\, an online "silent" auction\, a live auction\, opportunities to give to patients in need\, and messaging from our Lead sponsors. The need for quality health care does not stop just because we can't meet in-person. We have seen a 10% increase in our uninsured patients (to over 12\,000 patients) due to recent COVID-19 unemployment and we expect this number to increase.
X-ALT-DESC;FMTTYPE=text/html:<span style="background-color:rgb(255\, 255\, 255)\; color:rgb(32\, 32\, 32)\; font-family:work sans\; font-size:13.3333px">The virtual Pace Setter will include entertainment\, a patient story\, awarding our Servant Leader honoree\, an online &ldquo\;silent&rdquo\; auction\, a live auction\, opportunities to give to patients in need\, and messaging from our Lead sponsors. The need for quality health care does not stop just because we can&rsquo\;t meet in-person. We have seen a 10% increase in our uninsured patients (to over 12\,000 patients) due to recent COVID-19 unemployment and we expect this number to increase.</span>
LOCATION:Virtual
UID:e.784.26236
SEQUENCE:3
DTSTAMP:20260425T210436Z
URL:https://chamber.sdbusinesschamber.com/events/details/neighborhood-healthcare-22nd-annual-pace-setter-26236
END:VEVENT

END:VCALENDAR
