BEGIN:VCALENDAR
VERSION:2.0
PRODID:-//ChamberMaster//Event Calendar 2.0//EN
METHOD:PUBLISH
X-PUBLISHED-TTL:P3D
REFRESH-INTERVAL:P3D
CALSCALE:GREGORIAN
BEGIN:VEVENT
DTSTART:20121028T030000Z
DTEND:20121028T050000Z
X-MICROSOFT-CDO-ALLDAYEVENT:FALSE
SUMMARY:Natalie MacMaster - An Encore Performance!
DESCRIPTION:Award-winning fiddle player Natalie MacMaster is an international sensation\, recognized around the globe as a scintillating entertainer and the preeminent practitioner of the "Cape Breton sound."   But MacMaster has also become something of a "home-town" sensation appearing at the Poway Center with her own band (2008) and with husband Donnell Leahy in 2010.  Now\, MacMaster returns for an encore concert to perform songs from her new CD "Cape Breton Girl." \n\n	Winner of numerous awards for outstanding musicianship and a captivating live entertainer\, MacMaster has shared the stage with The Chieftains\, Paul Simon\, Faith Hill\, Luciano Pavarotti and has appeared on The Tonight Show with Jay Leno\, Late Night with Conan O'Brien and Good Morning America.
X-ALT-DESC;FMTTYPE=text/html:<p class="MsoNormal" style="margin: 0in 0in 10pt">\n	<font size="3"><font color="#000000"><font face="Calibri">Award-winning fiddle player Natalie MacMaster is an international sensation\, recognized around the globe as a scintillating entertainer and the preeminent practitioner of the &ldquo\;Cape Breton sound.&rdquo\;<span style="mso-spacerun: yes">&nbsp\;&nbsp\; </span>But MacMaster has also become something of a &ldquo\;home-town&rdquo\; sensation appearing at the Poway Center with her own band (2008) and with husband Donnell Leahy in 2010.<span style="mso-spacerun: yes">&nbsp\; </span>Now\, MacMaster returns for an encore concert to perform songs from her new CD &ldquo\;Cape Breton Girl.&rdquo\; <o:p></o:p></font></font></font></p>\n<p class="MsoNormal" style="margin: 0in 0in 10pt">\n	<font size="3"><font color="#000000"><font face="Calibri">Winner of numerous awards for outstanding musicianship and a captivating live entertainer\, MacMaster has shared the stage with The Chieftains\, Paul Simon\, Faith Hill\, Luciano Pavarotti and has appeared on The Tonight Show with Jay Leno\, Late Night with Conan O&rsquo\;Brien and Good Morning America.<o:p></o:p></font></font></font></p>\n
LOCATION:Poway Center for the Performing Arts 15498 Espola Road\, Poway\, CA 92064
UID:e.784.2662
SEQUENCE:3
DTSTAMP:20260422T075255Z
URL:https://chamber.sdbusinesschamber.com/events/details/natalie-macmaster-an-encore-performance-10-27-2012-2662
END:VEVENT

END:VCALENDAR
