BEGIN:VCALENDAR
VERSION:2.0
PRODID:-//ChamberMaster//Event Calendar 2.0//EN
METHOD:PUBLISH
X-PUBLISHED-TTL:P3D
REFRESH-INTERVAL:P3D
CALSCALE:GREGORIAN
BEGIN:VEVENT
DTSTART:20131117T040000Z
DTEND:20131117T060000Z
X-MICROSOFT-CDO-ALLDAYEVENT:FALSE
SUMMARY:Mutual of Omaha Bank Presents Berkley Hart and Back to the Garden in The Last Wa
DESCRIPTION:Featuring the music of The Band\, Bob Dylan\, Eric Clapton\, Neil Young\, Van Morrison and more!\n\n	In 1978\, Martin Scorsese released The Last Waltz\, a film that would set a new standard for rock music documentaries.  The film chronicled the last performance by The Band ("The Weight\," "Up on Cripple Creek") and featured an all-star line-up of guest musicians including Bob Dylan\, Neil Young\, Eric Clapton\, Joni Mitchell\, Van Morrison\, Muddy Waters\, the Staples Singers and more.  \n\n	 \n\n	Now Berkley Hart (O Berkley Where Hart Thou?) and Back to the Garden return to the Poway Center to recreate the legendary concert live on stage\, aided by some of San Diego's finest folk\, rock and blues musicians.  Last season's O Berkley Where Hart Thou? sold out.  Don't get left out   order tickets today!
X-ALT-DESC;FMTTYPE=text/html:<p class="MsoNormal">\n	<span style="font-size:11.0pt\;font-family:Calibri\;\nmso-bidi-font-family:Calibri">Featuring the music of The Band\, Bob Dylan\, Eric Clapton\, Neil Young\, Van Morrison and more!</span></p>\n<p class="MsoNormal">\n	<span style="font-family:Calibri">In 1978\, Martin Scorsese released The Last Waltz\, a film that would set a new standard for rock music documentaries.<span style="mso-spacerun:yes">&nbsp\; </span>The film chronicled the last performance by The Band (&ldquo\;The Weight\,&rdquo\; &ldquo\;Up on Cripple Creek&rdquo\;) and featured an all-star line-up of guest musicians including Bob Dylan\, Neil Young\, Eric Clapton\, Joni Mitchell\, Van Morrison\, Muddy Waters\, the Staples Singers and more.<span style="mso-spacerun:yes">&nbsp\; </span></span></p>\n<p class="MsoNormal">\n	<span style="font-family:Calibri">&nbsp\;</span></p>\n<p class="MsoNormal">\n	<span style="font-family:Calibri">Now Berkley<a name="_GoBack"></a> Hart (O Berkley Where Hart Thou?) and Back to the Garden return to the Poway Center to recreate the legendary concert live on stage\, aided by some of San Diego&rsquo\;s finest folk\, rock and blues musicians.<span style="mso-spacerun:yes">&nbsp\; </span>Last season&rsquo\;s O Berkley Where Hart Thou? sold out.<span style="mso-spacerun:yes">&nbsp\; </span>Don&rsquo\;t get left out &ndash\; order tickets today!</span></p>\n
LOCATION:Poway Center for the Performing Arts 15498 Espola Road Poway\, CA 92064
UID:e.784.2914
SEQUENCE:3
DTSTAMP:20260421T113810Z
URL:https://chamber.sdbusinesschamber.com/events/details/mutual-of-omaha-bank-presents-berkley-hart-and-back-to-the-garden-in-the-last-wa-11-16-2013-2914
END:VEVENT

END:VCALENDAR
