BEGIN:VCALENDAR
VERSION:2.0
PRODID:-//ChamberMaster//Event Calendar 2.0//EN
METHOD:PUBLISH
X-PUBLISHED-TTL:P3D
REFRESH-INTERVAL:P3D
CALSCALE:GREGORIAN
BEGIN:VEVENT
DTSTART:20121011T013000Z
DTEND:20121011T033000Z
X-MICROSOFT-CDO-ALLDAYEVENT:FALSE
SUMMARY:Money 101
DESCRIPTION:Money 101 is an Educational Workshop\n\n\n\nWe go to school for 12 to 16 years to learn reading\, writing and arithmetic\; but never learn the basics about how money works.\n\n\n\nMoney 101 is not a sales seminar\, but is a casual educational workshop. There is NO sign in sheet and no sales pitch. Bring your notepad\, relax\, grab a bite to eat and learn about a few fundamental principles of how money works.\n\n\n\nLearn how to beat the three biggest hurdles that prevent most people from crossing the finish line to retirement\, Debt\, Taxes and Inflation! Also learn how to safely grow and protect your money for college funding\, retirement planning or simple wealth accumulation - all with money you never knew you had!\n\n\n\nWe look forward to meeting you. Please feel free to bring your spouse\, significant other or a friend.\n\n\n\nRSVP is required: MODonnell@FiveRingsFinancial.com
X-ALT-DESC;FMTTYPE=text/html:Money 101 is an Educational Workshop<br />\n<br />\nWe go to school for 12 to 16 years to learn reading\, writing and arithmetic\; but never learn the basics about how money works.<br />\n<br />\n<strong>Money 101 is&nbsp\;not a sales seminar</strong>\, but is a casual&nbsp\;educational workshop. There is NO sign in sheet and no sales pitch. Bring your notepad\, relax\, grab a bite to eat and learn about a few fundamental principles of how money works.<br />\n<br />\nLearn how to&nbsp\;beat the&nbsp\;three biggest hurdles that prevent most people from crossing&nbsp\;the finish line to retirement\, Debt\, Taxes and Inflation! Also learn how to safely grow and protect your money for college funding\, retirement planning or simple wealth accumulation - all with money you never knew you had!<br />\n<br />\nWe look forward to meeting you. Please feel free to bring your spouse\, significant other or a friend.<br />\n<br />\nRSVP is required: <a href="mailto:MODonnell@FiveRingsFinancial.com">MODonnell@FiveRingsFinancial.com</a> 
LOCATION:Old Spaghetti Factory 111 N Twin Oaks Valley Road San Marcos CA 92069
UID:e.784.2633
SEQUENCE:3
DTSTAMP:20260422T092233Z
URL:https://chamber.sdbusinesschamber.com/events/details/money-101-10-10-2012-2633
END:VEVENT

END:VCALENDAR
