BEGIN:VCALENDAR
VERSION:2.0
PRODID:-//ChamberMaster//Event Calendar 2.0//EN
METHOD:PUBLISH
X-PUBLISHED-TTL:P3D
REFRESH-INTERVAL:P3D
CALSCALE:GREGORIAN
BEGIN:VEVENT
DTSTART:20120522T190000Z
DTEND:20120522T200000Z
X-MICROSOFT-CDO-ALLDAYEVENT:FALSE
SUMMARY:Money 101
DESCRIPTION:Money 101 is an Educational Workshop\n\n\n\nWe go to school for 12 to 16 years to learn reading\, writing and arithmetic\; but never learn the basics about how money works.\n\n\n\nMoney 101 is not a sales seminar\, but is an educational workshop. There is NO sign in sheet and no sales pitch. Bring your notepad\, relax\, grab a bite to eat and learn about a few fundamental principles of how money works.\n\n\n\nLearn how to safely grow and protect your money for college funding\, retirement planning or simple wealth accumulation - all with money you never knew you had!\n\n\n\nWe look forward to meeting you. Please feel free to bring your spouse\, significant other or a friend.\n\n\n\nRSVP is required: MODonnell@FiveRingsFinancial.com
X-ALT-DESC;FMTTYPE=text/html:<u><strong>Money 101 is an Educational Workshop</strong></u><br />\n<br />\nWe go to school for 12 to 16 years to learn reading\, writing and arithmetic\; but never learn the basics about how money works.<br />\n<br />\nMoney 101 is not a sales seminar\, but is an educational workshop. There is NO sign in sheet and no sales pitch. Bring your notepad\, relax\, grab a bite to eat and learn about a few fundamental principles of how money works.<br />\n<br />\nLearn how to safely grow and protect your money for college funding\, retirement planning or simple wealth accumulation - all with money you never knew you had!<br />\n<br />\nWe look forward to meeting you. Please feel free to bring your spouse\, significant other or a friend.<br />\n<br />\nRSVP is required: MODonnell@FiveRingsFinancial.com<br />\n
LOCATION:The Broken Yolk 101 South Las Posas Rd San Marcos\, CA 92078
UID:e.784.2634
SEQUENCE:3
DTSTAMP:20260422T160042Z
URL:https://chamber.sdbusinesschamber.com/events/details/money-101-05-22-2012-2634
END:VEVENT

END:VCALENDAR
