BEGIN:VCALENDAR
VERSION:2.0
PRODID:-//ChamberMaster//Event Calendar 2.0//EN
METHOD:PUBLISH
X-PUBLISHED-TTL:P3D
REFRESH-INTERVAL:P3D
CALSCALE:GREGORIAN
BEGIN:VEVENT
DTSTART:20100913T153000Z
DTEND:20100913T190000Z
X-MICROSOFT-CDO-ALLDAYEVENT:FALSE
SUMMARY:Monday Morning Insight
DESCRIPTION:Normal\n  0\n  \n  \n  \n  \n  false\n  false\n  false\n  \n  EN-US\n  X-NONE\n  X-NONE\n  \n   \n   \n   \n   \n   \n   \n   \n   \n   \n   \n   \n  \n  MicrosoftInternetExplorer4\n  \n   \n   \n   \n   \n   \n   \n   \n   \n   \n   \n   \n  \n\n \n  \n  \n  \n  \n  \n  \n  \n  \n  \n  \n  \n  \n  \n  \n  \n  \n  \n  \n  \n  \n  \n  \n  \n  \n  \n  \n  \n  \n  \n  \n  \n  \n  \n  \n  \n  \n  \n  \n  \n  \n  \n  \n  \n  \n  \n  \n  \n  \n  \n  \n  \n  \n  \n  \n  \n  \n  \n  \n  \n  \n  \n  \n  \n  \n  \n  \n  \n  \n  \n  \n  \n  \n  \n  \n  \n  \n  \n  \n  \n  \n  \n  \n  \n  \n  \n  \n  \n  \n  \n  \n  \n  \n  \n  \n  \n  \n  \n  \n  \n  \n  \n  \n  \n  \n  \n  \n  \n  \n  \n  \n  \n  \n  \n  \n  \n  \n  \n  \n  \n  \n  \n  \n  \n  \n  \n  \n  \n  \n  \n  \n  \n  \n  \n  \n  \n  \n  \n \n\n\n\n\n /* Style Definitions */\n table.MsoNormalTable\n	{mso-style-name:"Table Normal"\;\n	mso-tstyle-rowband-size:0\;\n	mso-tstyle-colband-size:0\;\n	mso-style-noshow:yes\;\n	mso-style-priority:99\;\n	mso-style-qformat:yes\;\n	mso-style-parent:""\;\n	mso-padding-alt:0in 5.4pt 0in 5.4pt\;\n	mso-para-margin:0in\;\n	mso-para-margin-bottom:.0001pt\;\n	mso-pagination:widow-orphan\;\n	font-size:11.0pt\;\n	font-family:"Calibri"\,"sans-serif"\;\n	mso-ascii-font-family:Calibri\;\n	mso-ascii-theme-font:minor-latin\;\n	mso-fareast-font-family:"Times New Roman"\;\n	mso-fareast-theme-font:minor-fareast\;\n	mso-hansi-font-family:Calibri\;\n	mso-hansi-theme-font:minor-latin\;\n	mso-bidi-font-family:"Times New Roman"\;\n	mso-bidi-theme-font:minor-bidi\;}\n\nWe've partnered with Haines Center For Strategic Management to bring you a series of Executive Briefings that will teach key insights to thinking\, planning and acting strategically on a daily basis. These briefings help leaders at all levels develop key skills to deal with change and think differently in these turbulent times. All are held at Courtyard by Marriott Rancho Bernardo\, and sponsored by the San Diego North Chamber of Commerce. Briefings are $69 for Chamber members or $99 for non-members.\nMarch 22  Future Environmental Scanning - How the World is Changing\n\nApril 20  Strategic and Systems Thinking Overview - Simplicity\n\nMay 17  Top 10 Everyday Tools for Strategic and Systems Thinking\n\nJune 21  Daily Strategic Change - Iceberg Theory\n\nJuly 19  Daily Strategic Change - Rollercoaster of Change\n\nAugust 17  Law of Unintended Consequences\n\nSeptember 20  Top 10 Daily Strategic Thinking Tools for Problem Solving
X-ALT-DESC;FMTTYPE=text/html:<div><h2 style="text-align: left\;"><meta content="text/html\; charset=utf-8" http-equiv="Content-Type" /><meta content="Word.Document" name="ProgId" /><meta content="Microsoft Word 12" name="Generator" /><meta content="Microsoft Word 12" name="Originator" /><link href="file:///C:\\DOCUME~1\\WORKST~1\\LOCALS~1\\Temp\\msohtmlclip1\\01\\clip_filelist.xml" rel="File-List" /><link href="file:///C:\\DOCUME~1\\WORKST~1\\LOCALS~1\\Temp\\msohtmlclip1\\01\\clip_themedata.thmx" rel="themeData" /><link href="file:///C:\\DOCUME~1\\WORKST~1\\LOCALS~1\\Temp\\msohtmlclip1\\01\\clip_colorschememapping.xml" rel="colorSchemeMapping" /><!--[if gte mso 9]><xml>\n <w:WordDocument>\n  <w:View>Normal</w:View>\n  <w:Zoom>0</w:Zoom>\n  <w:TrackMoves />\n  <w:TrackFormatting />\n  <w:PunctuationKerning />\n  <w:ValidateAgainstSchemas />\n  <w:SaveIfXMLInvalid>false</w:SaveIfXMLInvalid>\n  <w:IgnoreMixedContent>false</w:IgnoreMixedContent>\n  <w:AlwaysShowPlaceholderText>false</w:AlwaysShowPlaceholderText>\n  <w:DoNotPromoteQF />\n  <w:LidThemeOther>EN-US</w:LidThemeOther>\n  <w:LidThemeAsian>X-NONE</w:LidThemeAsian>\n  <w:LidThemeComplexScript>X-NONE</w:LidThemeComplexScript>\n  <w:Compatibility>\n   <w:BreakWrappedTables />\n   <w:SnapToGridInCell />\n   <w:WrapTextWithPunct />\n   <w:UseAsianBreakRules />\n   <w:DontGrowAutofit />\n   <w:SplitPgBreakAndParaMark />\n   <w:DontVertAlignCellWithSp />\n   <w:DontBreakConstrainedForcedTables />\n   <w:DontVertAlignInTxbx />\n   <w:Word11KerningPairs />\n   <w:CachedColBalance />\n  </w:Compatibility>\n  <w:BrowserLevel>MicrosoftInternetExplorer4</w:BrowserLevel>\n  <m:mathPr>\n   <m:mathFont m:val="Cambria Math" />\n   <m:brkBin m:val="before" />\n   <m:brkBinSub m:val="&#45\;-" />\n   <m:smallFrac m:val="off" />\n   <m:dispDef />\n   <m:lMargin m:val="0" />\n   <m:rMargin m:val="0" />\n   <m:defJc m:val="centerGroup" />\n   <m:wrapIndent m:val="1440" />\n   <m:intLim m:val="subSup" />\n   <m:naryLim m:val="undOvr" />\n  </m:mathPr></w:WordDocument>\n</xml><![endif]--><!--[if gte mso 9]><xml>\n <w:LatentStyles DefLockedState="false" DefUnhideWhenUsed="true"\n  DefSemiHidden="true" DefQFormat="false" DefPriority="99"\n  LatentStyleCount="267">\n  <w:LsdException Locked="false" Priority="0" SemiHidden="false"\n   UnhideWhenUsed="false" QFormat="true" Name="Normal" />\n  <w:LsdException Locked="false" Priority="9" SemiHidden="false"\n   UnhideWhenUsed="false" QFormat="true" Name="heading 1" />\n  <w:LsdException Locked="false" Priority="9" QFormat="true" Name="heading 2" />\n  <w:LsdException Locked="false" Priority="9" QFormat="true" Name="heading 3" />\n  <w:LsdException Locked="false" Priority="9" QFormat="true" Name="heading 4" />\n  <w:LsdException Locked="false" Priority="9" QFormat="true" Name="heading 5" />\n  <w:LsdException Locked="false" Priority="9" QFormat="true" Name="heading 6" />\n  <w:LsdException Locked="false" Priority="9" QFormat="true" Name="heading 7" />\n  <w:LsdException Locked="false" Priority="9" QFormat="true" Name="heading 8" />\n  <w:LsdException Locked="false" Priority="9" QFormat="true" Name="heading 9" />\n  <w:LsdException Locked="false" Priority="39" Name="toc 1" />\n  <w:LsdException Locked="false" Priority="39" Name="toc 2" />\n  <w:LsdException Locked="false" Priority="39" Name="toc 3" />\n  <w:LsdException Locked="false" Priority="39" Name="toc 4" />\n  <w:LsdException Locked="false" Priority="39" Name="toc 5" />\n  <w:LsdException Locked="false" Priority="39" Name="toc 6" />\n  <w:LsdException Locked="false" Priority="39" Name="toc 7" />\n  <w:LsdException Locked="false" Priority="39" Name="toc 8" />\n  <w:LsdException Locked="false" Priority="39" Name="toc 9" />\n  <w:LsdException Locked="false" Priority="35" QFormat="true" Name="caption" />\n  <w:LsdException Locked="false" Priority="10" SemiHidden="false"\n   UnhideWhenUsed="false" QFormat="true" Name="Title" />\n  <w:LsdException Locked="false" Priority="1" Name="Default Paragraph Font" />\n  <w:LsdException Locked="false" Priority="11" SemiHidden="false"\n   UnhideWhenUsed="false" QFormat="true" Name="Subtitle" />\n  <w:LsdException Locked="false" Priority="22" SemiHidden="false"\n   UnhideWhenUsed="false" QFormat="true" Name="Strong" />\n  <w:LsdException Locked="false" Priority="20" SemiHidden="false"\n   UnhideWhenUsed="false" QFormat="true" Name="Emphasis" />\n  <w:LsdException Locked="false" Priority="59" SemiHidden="false"\n   UnhideWhenUsed="false" Name="Table Grid" />\n  <w:LsdException Locked="false" UnhideWhenUsed="false" Name="Placeholder Text" />\n  <w:LsdException Locked="false" Priority="1" SemiHidden="false"\n   UnhideWhenUsed="false" QFormat="true" Name="No Spacing" />\n  <w:LsdException Locked="false" Priority="60" SemiHidden="false"\n   UnhideWhenUsed="false" Name="Light Shading" />\n  <w:LsdException Locked="false" Priority="61" SemiHidden="false"\n   UnhideWhenUsed="false" Name="Light List" />\n  <w:LsdException Locked="false" Priority="62" SemiHidden="false"\n   UnhideWhenUsed="false" Name="Light Grid" />\n  <w:LsdException Locked="false" Priority="63" SemiHidden="false"\n   UnhideWhenUsed="false" Name="Medium Shading 1" />\n  <w:LsdException Locked="false" Priority="64" SemiHidden="false"\n   UnhideWhenUsed="false" Name="Medium Shading 2" />\n  <w:LsdException Locked="false" Priority="65" SemiHidden="false"\n   UnhideWhenUsed="false" Name="Medium List 1" />\n  <w:LsdException Locked="false" Priority="66" SemiHidden="false"\n   UnhideWhenUsed="false" Name="Medium List 2" />\n  <w:LsdException Locked="false" Priority="67" SemiHidden="false"\n   UnhideWhenUsed="false" Name="Medium Grid 1" />\n  <w:LsdException Locked="false" Priority="68" SemiHidden="false"\n   UnhideWhenUsed="false" Name="Medium Grid 2" />\n  <w:LsdException Locked="false" Priority="69" SemiHidden="false"\n   UnhideWhenUsed="false" Name="Medium Grid 3" />\n  <w:LsdException Locked="false" Priority="70" SemiHidden="false"\n   UnhideWhenUsed="false" Name="Dark List" />\n  <w:LsdException Locked="false" Priority="71" SemiHidden="false"\n   UnhideWhenUsed="false" Name="Colorful Shading" />\n  <w:LsdException Locked="false" Priority="72" SemiHidden="false"\n   UnhideWhenUsed="false" Name="Colorful List" />\n  <w:LsdException Locked="false" Priority="73" SemiHidden="false"\n   UnhideWhenUsed="false" Name="Colorful Grid" />\n  <w:LsdException Locked="false" Priority="60" SemiHidden="false"\n   UnhideWhenUsed="false" Name="Light Shading Accent 1" />\n  <w:LsdException Locked="false" Priority="61" SemiHidden="false"\n   UnhideWhenUsed="false" Name="Light List Accent 1" />\n  <w:LsdException Locked="false" Priority="62" SemiHidden="false"\n   UnhideWhenUsed="false" Name="Light Grid Accent 1" />\n  <w:LsdException Locked="false" Priority="63" SemiHidden="false"\n   UnhideWhenUsed="false" Name="Medium Shading 1 Accent 1" />\n  <w:LsdException Locked="false" Priority="64" SemiHidden="false"\n   UnhideWhenUsed="false" Name="Medium Shading 2 Accent 1" />\n  <w:LsdException Locked="false" Priority="65" SemiHidden="false"\n   UnhideWhenUsed="false" Name="Medium List 1 Accent 1" />\n  <w:LsdException Locked="false" UnhideWhenUsed="false" Name="Revision" />\n  <w:LsdException Locked="false" Priority="34" SemiHidden="false"\n   UnhideWhenUsed="false" QFormat="true" Name="List Paragraph" />\n  <w:LsdException Locked="false" Priority="29" SemiHidden="false"\n   UnhideWhenUsed="false" QFormat="true" Name="Quote" />\n  <w:LsdException Locked="false" Priority="30" SemiHidden="false"\n   UnhideWhenUsed="false" QFormat="true" Name="Intense Quote" />\n  <w:LsdException Locked="false" Priority="66" SemiHidden="false"\n   UnhideWhenUsed="false" Name="Medium List 2 Accent 1" />\n  <w:LsdException Locked="false" Priority="67" SemiHidden="false"\n   UnhideWhenUsed="false" Name="Medium Grid 1 Accent 1" />\n  <w:LsdException Locked="false" Priority="68" SemiHidden="false"\n   UnhideWhenUsed="false" Name="Medium Grid 2 Accent 1" />\n  <w:LsdException Locked="false" Priority="69" SemiHidden="false"\n   UnhideWhenUsed="false" Name="Medium Grid 3 Accent 1" />\n  <w:LsdException Locked="false" Priority="70" SemiHidden="false"\n   UnhideWhenUsed="false" Name="Dark List Accent 1" />\n  <w:LsdException Locked="false" Priority="71" SemiHidden="false"\n   UnhideWhenUsed="false" Name="Colorful Shading Accent 1" />\n  <w:LsdException Locked="false" Priority="72" SemiHidden="false"\n   UnhideWhenUsed="false" Name="Colorful List Accent 1" />\n  <w:LsdException Locked="false" Priority="73" SemiHidden="false"\n   UnhideWhenUsed="false" Name="Colorful Grid Accent 1" />\n  <w:LsdException Locked="false" Priority="60" SemiHidden="false"\n   UnhideWhenUsed="false" Name="Light Shading Accent 2" />\n  <w:LsdException Locked="false" Priority="61" SemiHidden="false"\n   UnhideWhenUsed="false" Name="Light List Accent 2" />\n  <w:LsdException Locked="false" Priority="62" SemiHidden="false"\n   UnhideWhenUsed="false" Name="Light Grid Accent 2" />\n  <w:LsdException Locked="false" Priority="63" SemiHidden="false"\n   UnhideWhenUsed="false" Name="Medium Shading 1 Accent 2" />\n  <w:LsdException Locked="false" Priority="64" SemiHidden="false"\n   UnhideWhenUsed="false" Name="Medium Shading 2 Accent 2" />\n  <w:LsdException Locked="false" Priority="65" SemiHidden="false"\n   UnhideWhenUsed="false" Name="Medium List 1 Accent 2" />\n  <w:LsdException Locked="false" Priority="66" SemiHidden="false"\n   UnhideWhenUsed="false" Name="Medium List 2 Accent 2" />\n  <w:LsdException Locked="false" Priority="67" SemiHidden="false"\n   UnhideWhenUsed="false" Name="Medium Grid 1 Accent 2" />\n  <w:LsdException Locked="false" Priority="68" SemiHidden="false"\n   UnhideWhenUsed="false" Name="Medium Grid 2 Accent 2" />\n  <w:LsdException Locked="false" Priority="69" SemiHidden="false"\n   UnhideWhenUsed="false" Name="Medium Grid 3 Accent 2" />\n  <w:LsdException Locked="false" Priority="70" SemiHidden="false"\n   UnhideWhenUsed="false" Name="Dark List Accent 2" />\n  <w:LsdException Locked="false" Priority="71" SemiHidden="false"\n   UnhideWhenUsed="false" Name="Colorful Shading Accent 2" />\n  <w:LsdException Locked="false" Priority="72" SemiHidden="false"\n   UnhideWhenUsed="false" Name="Colorful List Accent 2" />\n  <w:LsdException Locked="false" Priority="73" SemiHidden="false"\n   UnhideWhenUsed="false" Name="Colorful Grid Accent 2" />\n  <w:LsdException Locked="false" Priority="60" SemiHidden="false"\n   UnhideWhenUsed="false" Name="Light Shading Accent 3" />\n  <w:LsdException Locked="false" Priority="61" SemiHidden="false"\n   UnhideWhenUsed="false" Name="Light List Accent 3" />\n  <w:LsdException Locked="false" Priority="62" SemiHidden="false"\n   UnhideWhenUsed="false" Name="Light Grid Accent 3" />\n  <w:LsdException Locked="false" Priority="63" SemiHidden="false"\n   UnhideWhenUsed="false" Name="Medium Shading 1 Accent 3" />\n  <w:LsdException Locked="false" Priority="64" SemiHidden="false"\n   UnhideWhenUsed="false" Name="Medium Shading 2 Accent 3" />\n  <w:LsdException Locked="false" Priority="65" SemiHidden="false"\n   UnhideWhenUsed="false" Name="Medium List 1 Accent 3" />\n  <w:LsdException Locked="false" Priority="66" SemiHidden="false"\n   UnhideWhenUsed="false" Name="Medium List 2 Accent 3" />\n  <w:LsdException Locked="false" Priority="67" SemiHidden="false"\n   UnhideWhenUsed="false" Name="Medium Grid 1 Accent 3" />\n  <w:LsdException Locked="false" Priority="68" SemiHidden="false"\n   UnhideWhenUsed="false" Name="Medium Grid 2 Accent 3" />\n  <w:LsdException Locked="false" Priority="69" SemiHidden="false"\n   UnhideWhenUsed="false" Name="Medium Grid 3 Accent 3" />\n  <w:LsdException Locked="false" Priority="70" SemiHidden="false"\n   UnhideWhenUsed="false" Name="Dark List Accent 3" />\n  <w:LsdException Locked="false" Priority="71" SemiHidden="false"\n   UnhideWhenUsed="false" Name="Colorful Shading Accent 3" />\n  <w:LsdException Locked="false" Priority="72" SemiHidden="false"\n   UnhideWhenUsed="false" Name="Colorful List Accent 3" />\n  <w:LsdException Locked="false" Priority="73" SemiHidden="false"\n   UnhideWhenUsed="false" Name="Colorful Grid Accent 3" />\n  <w:LsdException Locked="false" Priority="60" SemiHidden="false"\n   UnhideWhenUsed="false" Name="Light Shading Accent 4" />\n  <w:LsdException Locked="false" Priority="61" SemiHidden="false"\n   UnhideWhenUsed="false" Name="Light List Accent 4" />\n  <w:LsdException Locked="false" Priority="62" SemiHidden="false"\n   UnhideWhenUsed="false" Name="Light Grid Accent 4" />\n  <w:LsdException Locked="false" Priority="63" SemiHidden="false"\n   UnhideWhenUsed="false" Name="Medium Shading 1 Accent 4" />\n  <w:LsdException Locked="false" Priority="64" SemiHidden="false"\n   UnhideWhenUsed="false" Name="Medium Shading 2 Accent 4" />\n  <w:LsdException Locked="false" Priority="65" SemiHidden="false"\n   UnhideWhenUsed="false" Name="Medium List 1 Accent 4" />\n  <w:LsdException Locked="false" Priority="66" SemiHidden="false"\n   UnhideWhenUsed="false" Name="Medium List 2 Accent 4" />\n  <w:LsdException Locked="false" Priority="67" SemiHidden="false"\n   UnhideWhenUsed="false" Name="Medium Grid 1 Accent 4" />\n  <w:LsdException Locked="false" Priority="68" SemiHidden="false"\n   UnhideWhenUsed="false" Name="Medium Grid 2 Accent 4" />\n  <w:LsdException Locked="false" Priority="69" SemiHidden="false"\n   UnhideWhenUsed="false" Name="Medium Grid 3 Accent 4" />\n  <w:LsdException Locked="false" Priority="70" SemiHidden="false"\n   UnhideWhenUsed="false" Name="Dark List Accent 4" />\n  <w:LsdException Locked="false" Priority="71" SemiHidden="false"\n   UnhideWhenUsed="false" Name="Colorful Shading Accent 4" />\n  <w:LsdException Locked="false" Priority="72" SemiHidden="false"\n   UnhideWhenUsed="false" Name="Colorful List Accent 4" />\n  <w:LsdException Locked="false" Priority="73" SemiHidden="false"\n   UnhideWhenUsed="false" Name="Colorful Grid Accent 4" />\n  <w:LsdException Locked="false" Priority="60" SemiHidden="false"\n   UnhideWhenUsed="false" Name="Light Shading Accent 5" />\n  <w:LsdException Locked="false" Priority="61" SemiHidden="false"\n   UnhideWhenUsed="false" Name="Light List Accent 5" />\n  <w:LsdException Locked="false" Priority="62" SemiHidden="false"\n   UnhideWhenUsed="false" Name="Light Grid Accent 5" />\n  <w:LsdException Locked="false" Priority="63" SemiHidden="false"\n   UnhideWhenUsed="false" Name="Medium Shading 1 Accent 5" />\n  <w:LsdException Locked="false" Priority="64" SemiHidden="false"\n   UnhideWhenUsed="false" Name="Medium Shading 2 Accent 5" />\n  <w:LsdException Locked="false" Priority="65" SemiHidden="false"\n   UnhideWhenUsed="false" Name="Medium List 1 Accent 5" />\n  <w:LsdException Locked="false" Priority="66" SemiHidden="false"\n   UnhideWhenUsed="false" Name="Medium List 2 Accent 5" />\n  <w:LsdException Locked="false" Priority="67" SemiHidden="false"\n   UnhideWhenUsed="false" Name="Medium Grid 1 Accent 5" />\n  <w:LsdException Locked="false" Priority="68" SemiHidden="false"\n   UnhideWhenUsed="false" Name="Medium Grid 2 Accent 5" />\n  <w:LsdException Locked="false" Priority="69" SemiHidden="false"\n   UnhideWhenUsed="false" Name="Medium Grid 3 Accent 5" />\n  <w:LsdException Locked="false" Priority="70" SemiHidden="false"\n   UnhideWhenUsed="false" Name="Dark List Accent 5" />\n  <w:LsdException Locked="false" Priority="71" SemiHidden="false"\n   UnhideWhenUsed="false" Name="Colorful Shading Accent 5" />\n  <w:LsdException Locked="false" Priority="72" SemiHidden="false"\n   UnhideWhenUsed="false" Name="Colorful List Accent 5" />\n  <w:LsdException Locked="false" Priority="73" SemiHidden="false"\n   UnhideWhenUsed="false" Name="Colorful Grid Accent 5" />\n  <w:LsdException Locked="false" Priority="60" SemiHidden="false"\n   UnhideWhenUsed="false" Name="Light Shading Accent 6" />\n  <w:LsdException Locked="false" Priority="61" SemiHidden="false"\n   UnhideWhenUsed="false" Name="Light List Accent 6" />\n  <w:LsdException Locked="false" Priority="62" SemiHidden="false"\n   UnhideWhenUsed="false" Name="Light Grid Accent 6" />\n  <w:LsdException Locked="false" Priority="63" SemiHidden="false"\n   UnhideWhenUsed="false" Name="Medium Shading 1 Accent 6" />\n  <w:LsdException Locked="false" Priority="64" SemiHidden="false"\n   UnhideWhenUsed="false" Name="Medium Shading 2 Accent 6" />\n  <w:LsdException Locked="false" Priority="65" SemiHidden="false"\n   UnhideWhenUsed="false" Name="Medium List 1 Accent 6" />\n  <w:LsdException Locked="false" Priority="66" SemiHidden="false"\n   UnhideWhenUsed="false" Name="Medium List 2 Accent 6" />\n  <w:LsdException Locked="false" Priority="67" SemiHidden="false"\n   UnhideWhenUsed="false" Name="Medium Grid 1 Accent 6" />\n  <w:LsdException Locked="false" Priority="68" SemiHidden="false"\n   UnhideWhenUsed="false" Name="Medium Grid 2 Accent 6" />\n  <w:LsdException Locked="false" Priority="69" SemiHidden="false"\n   UnhideWhenUsed="false" Name="Medium Grid 3 Accent 6" />\n  <w:LsdException Locked="false" Priority="70" SemiHidden="false"\n   UnhideWhenUsed="false" Name="Dark List Accent 6" />\n  <w:LsdException Locked="false" Priority="71" SemiHidden="false"\n   UnhideWhenUsed="false" Name="Colorful Shading Accent 6" />\n  <w:LsdException Locked="false" Priority="72" SemiHidden="false"\n   UnhideWhenUsed="false" Name="Colorful List Accent 6" />\n  <w:LsdException Locked="false" Priority="73" SemiHidden="false"\n   UnhideWhenUsed="false" Name="Colorful Grid Accent 6" />\n  <w:LsdException Locked="false" Priority="19" SemiHidden="false"\n   UnhideWhenUsed="false" QFormat="true" Name="Subtle Emphasis" />\n  <w:LsdException Locked="false" Priority="21" SemiHidden="false"\n   UnhideWhenUsed="false" QFormat="true" Name="Intense Emphasis" />\n  <w:LsdException Locked="false" Priority="31" SemiHidden="false"\n   UnhideWhenUsed="false" QFormat="true" Name="Subtle Reference" />\n  <w:LsdException Locked="false" Priority="32" SemiHidden="false"\n   UnhideWhenUsed="false" QFormat="true" Name="Intense Reference" />\n  <w:LsdException Locked="false" Priority="33" SemiHidden="false"\n   UnhideWhenUsed="false" QFormat="true" Name="Book Title" />\n  <w:LsdException Locked="false" Priority="37" Name="Bibliography" />\n  <w:LsdException Locked="false" Priority="39" QFormat="true" Name="TOC Heading" />\n </w:LatentStyles>\n</xml><![endif]--><style type="text/css">\n<!--\n /* Font Definitions */\n @font-face\n	{font-family:"Cambria Math"\;\n	panose-1:2 4 5 3 5 4 6 3 2 4\;\n	mso-font-charset:1\;\n	mso-generic-font-family:roman\;\n	mso-font-format:other\;\n	mso-font-pitch:variable\;\n	mso-font-signature:0 0 0 0 0 0\;}\n@font-face\n	{font-family:Calibri\;\n	panose-1:2 15 5 2 2 2 4 3 2 4\;\n	mso-font-charset:0\;\n	mso-generic-font-family:swiss\;\n	mso-font-pitch:variable\;\n	mso-font-signature:-1610611985 1073750139 0 0 159 0\;}\n@font-face\n	{font-family:Verdana\;\n	panose-1:2 11 6 4 3 5 4 4 2 4\;\n	mso-font-charset:0\;\n	mso-generic-font-family:swiss\;\n	mso-font-pitch:variable\;\n	mso-font-signature:536871559 0 0 0 415 0\;}\n /* Style Definitions */\n p.MsoNormal\, li.MsoNormal\, div.MsoNormal\n	{mso-style-unhide:no\;\n	mso-style-qformat:yes\;\n	mso-style-parent:""\;\n	margin:0in\;\n	margin-bottom:.0001pt\;\n	mso-pagination:widow-orphan\;\n	font-size:11.0pt\;\n	font-family:"Calibri"\,"sans-serif"\;\n	mso-fareast-font-family:Calibri\;\n	mso-fareast-theme-font:minor-latin\;\n	mso-bidi-font-family:"Times New Roman"\;}\n.MsoChpDefault\n	{mso-style-type:export-only\;\n	mso-default-props:yes\;\n	font-size:10.0pt\;\n	mso-ansi-font-size:10.0pt\;\n	mso-bidi-font-size:10.0pt\;}\n@page WordSection1\n	{size:8.5in 11.0in\;\n	margin:1.0in 1.0in 1.0in 1.0in\;\n	mso-header-margin:.5in\;\n	mso-footer-margin:.5in\;\n	mso-paper-source:0\;}\ndiv.WordSection1\n	{page:WordSection1\;}\n-->\n</style><!--[if gte mso 10]>\n<style>\n /* Style Definitions */\n table.MsoNormalTable\n	{mso-style-name:"Table Normal"\;\n	mso-tstyle-rowband-size:0\;\n	mso-tstyle-colband-size:0\;\n	mso-style-noshow:yes\;\n	mso-style-priority:99\;\n	mso-style-qformat:yes\;\n	mso-style-parent:""\;\n	mso-padding-alt:0in 5.4pt 0in 5.4pt\;\n	mso-para-margin:0in\;\n	mso-para-margin-bottom:.0001pt\;\n	mso-pagination:widow-orphan\;\n	font-size:11.0pt\;\n	font-family:"Calibri"\,"sans-serif"\;\n	mso-ascii-font-family:Calibri\;\n	mso-ascii-theme-font:minor-latin\;\n	mso-fareast-font-family:"Times New Roman"\;\n	mso-fareast-theme-font:minor-fareast\;\n	mso-hansi-font-family:Calibri\;\n	mso-hansi-theme-font:minor-latin\;\n	mso-bidi-font-family:"Times New Roman"\;\n	mso-bidi-theme-font:minor-bidi\;}\n</style>\n<![endif]--><b><span style="font-size: 12pt\; font-family: &quot\;Verdana&quot\;\,&quot\;sans-serif&quot\;\; color: rgb(113\, 105\, 105)\;">We&rsquo\;ve partnered with Haines Center For Strategic Management to bring you a series of Executive Briefings that will teach key insights to thinking\, planning and acting strategically on a daily basis. These briefings help leaders at all levels develop key skills to deal with change and think differently in these turbulent times. All are held at Courtyard by Marriott Rancho Bernardo\, and&nbsp\;sponsored by the San Diego North Chamber of Commerce. Briefings are $69 for Chamber members or&nbsp\;$99 for non-members.</span></b></h2><div class="paragraph" style="display: block\; text-align: left\;"><span style="font-size: medium\; color: rgb(0\, 0\, 0)\; line-height: normal\; font-family: &rsquo\;Times New Roman&rsquo\;\;"><span style="font-size: 11px\; color: rgb(51\, 51\, 51)\; line-height: normal\; font-family: Verdana\,Arial\,Helvetica\,sans-serif\; border-collapse: collapse\;"><font color="#4d85a0"><br /><strong><span style="font-size: small\;">March 22 </span></strong><span style="font-size: small\;">&nbsp\;<em>Future Environmental Scanning - How the World is Changing</em><br /><br /></span><strong><span style="font-size: small\;">April 20</span></strong><span style="font-size: small\;">&nbsp\;&nbsp\;<em>Strategic and Systems Thinking Overview - Simplicity</em><br /><br /></span><strong><span style="font-size: small\;">May 17</span></strong><span style="font-size: small\;">&nbsp\;&nbsp\;<em>Top 10 Everyday Tools for Strategic and Systems Thinking</em><br /><br /></span><strong><span style="font-size: small\;">June 21</span></strong><span style="font-size: small\;">&nbsp\;&nbsp\;<em>Daily Strategic Change - Iceberg Theory</em><br /><br /></span><strong><span style="font-size: small\;">July 19</span></strong><span style="font-size: small\;">&nbsp\;&nbsp\;<em>Daily Strategic Change - Rollercoaster of Change</em><br /></span><strong><span style="font-size: small\;"><br />August 17</span></strong><span style="font-size: small\;">&nbsp\;&nbsp\;<em>Law of Unintended Consequences</em><br /><br /></span><strong><span style="font-size: small\;">September 20</span></strong><span style="font-size: small\;">&nbsp\;&nbsp\;<em>Top 10 Daily Strategic Thinking Tools for Problem Solving&nbsp\;</em></span></font></span></span></div></div>
LOCATION:Courtyard by Marriott San Diego/Rancho Bernardo
UID:e.784.1745
SEQUENCE:3
DTSTAMP:20260423T195408Z
URL:https://chamber.sdbusinesschamber.com/events/details/monday-morning-insight-09-13-2010-1745
END:VEVENT

END:VCALENDAR
