BEGIN:VCALENDAR
VERSION:2.0
PRODID:-//ChamberMaster//Event Calendar 2.0//EN
METHOD:PUBLISH
X-PUBLISHED-TTL:P3D
REFRESH-INTERVAL:P3D
CALSCALE:GREGORIAN
BEGIN:VEVENT
DTSTART:20100823T153000Z
DTEND:20100823T190000Z
X-MICROSOFT-CDO-ALLDAYEVENT:FALSE
SUMMARY:Monday Morning Insight
DESCRIPTION:We've partnered with the Denner Group to bring you a series of Executive Briefings that will rev up your creative juices by learning key insights to think\, plan and act strategically on a daily basis. These briefings help leaders at all levels develop key skills to deal with change and think differently in these turbulent times. All are held at Courtyard by Marriott Rancho Bernardo\, and sponsored by the San Diego North Chamber of Commerce. Briefings are $69 for Chamber members or $99 for non-members. \nMarch 22  Future Environmental Scanning - How the World is Changing\n\nApril 20  Strategic and Systems Thinking Overview - Simplicity\n\nMay 17  Top 10 Everyday Tools for Strategic and Systems Thinking\n\nJune 21  Daily Strategic Change - Iceberg Theory\n\nJuly 19  Daily Strategic Change - Rollercoaster of Change\n\nAugust 23  Law of Unintended Consequences\n\nSeptember 20  Top 10 Daily Strategic Thinking Tools for Problem Solving
X-ALT-DESC;FMTTYPE=text/html:<div><h2 style="text-align: left\;"><span style="font-size: medium\; color: rgb(0\, 0\, 0)\; line-height: normal\; font-family: &rsquo\;Times New Roman&rsquo\;\;"><span style="font-size: 11px\; color: rgb(51\, 51\, 51)\; line-height: normal\; font-family: Verdana\,Arial\,Helvetica\,sans-serif\; border-collapse: collapse\;"><span style="font-size: small\;"><font color="#4d85a0"><font color="#716969">We&rsquo\;ve partnered with the Denner Group to bring you a series of Executive Briefings that will rev up your creative juices by learning key insights to think\, plan and act strategically on a daily basis. These briefings help leaders at all levels develop key skills to deal with change and think differently in these turbulent times. All are held at Courtyard by Marriott Rancho Bernardo\, and</font></font></span><span style="font-size: small\;"><font color="#4d85a0"><font color="#716969">&nbsp\;sponsored by the San Diego North Chamber of Commerce. Briefings are <strong>$69 for Chamber members</strong> or&nbsp\;<strong>$99 for non-members</strong>. </font></font></span></span></span></h2><div class="paragraph" style="display: block\; text-align: left\;"><span style="font-size: medium\; color: rgb(0\, 0\, 0)\; line-height: normal\; font-family: &rsquo\;Times New Roman&rsquo\;\;"><span style="font-size: 11px\; color: rgb(51\, 51\, 51)\; line-height: normal\; font-family: Verdana\,Arial\,Helvetica\,sans-serif\; border-collapse: collapse\;"><font color="#4d85a0"><br /><strong><span style="font-size: small\;">March 22 </span></strong><span style="font-size: small\;">&nbsp\;<em>Future Environmental Scanning - How the World is Changing</em><br /><br /></span><strong><span style="font-size: small\;">April 20</span></strong><span style="font-size: small\;">&nbsp\;&nbsp\;<em>Strategic and Systems Thinking Overview - Simplicity</em><br /><br /></span><strong><span style="font-size: small\;">May 17</span></strong><span style="font-size: small\;">&nbsp\;&nbsp\;<em>Top 10 Everyday Tools for Strategic and Systems Thinking</em><br /><br /></span><strong><span style="font-size: small\;">June 21</span></strong><span style="font-size: small\;">&nbsp\;&nbsp\;<em>Daily Strategic Change - Iceberg Theory</em><br /><br /></span><strong><span style="font-size: small\;">July 19</span></strong><span style="font-size: small\;">&nbsp\;&nbsp\;<em>Daily Strategic Change - Rollercoaster of Change</em><br /></span><strong><span style="font-size: small\;"><br />August 23</span></strong><span style="font-size: small\;">&nbsp\; <em>Law of Unintended Consequences</em><br /><br /></span><strong><span style="font-size: small\;">September 20</span></strong><span style="font-size: small\;">&nbsp\;&nbsp\;<em>Top 10 Daily Strategic Thinking Tools for Problem Solving&nbsp\;</em></span></font></span></span></div></div>
LOCATION:Courtyard by Marriott San Diego/Rancho Bernardo
UID:e.784.1744
SEQUENCE:3
DTSTAMP:20260423T224058Z
URL:https://chamber.sdbusinesschamber.com/events/details/monday-morning-insight-08-23-2010-1744
END:VEVENT

END:VCALENDAR
