BEGIN:VCALENDAR
VERSION:2.0
PRODID:-//ChamberMaster//Event Calendar 2.0//EN
METHOD:PUBLISH
X-PUBLISHED-TTL:P3D
REFRESH-INTERVAL:P3D
CALSCALE:GREGORIAN
BEGIN:VEVENT
DTSTART:20100420T070000Z
DTEND:20100420T070000Z
X-MICROSOFT-CDO-ALLDAYEVENT:FALSE
SUMMARY:Monday Morning Insight
DESCRIPTION:Monday Morning InsightWe've partnered with the Denner Group to bring you a series of Executive Briefings that will rev up your creative juices by learning key insights to think\, plan and act strategically on a daily basis. These briefings help leaders at all levels develop key skills to deal with change and think differently in these turbulent times. All are held at Courtyard by Marriott Rancho Bernardo\, and sponsored by the San Diego North Chamber of Commerce. Briefings are $69 for Chamber members or $99 for non-members. \nMarch 22  Future Environmental Scanning - How the World is Changing\n\nApril 20  Strategic and Systems Thinking Overview - Simplicity\n\nMay 17  Top 10 Everyday Tools for Strategic and Systems Thinking\n\nJune 21  Daily Strategic Change - Iceberg Theory\n\nJuly 19  Daily Strategic Change - Rollercoaster of Change\n\nAugust 17  Law of Unintended Consequences\n\nSeptember 20  Top 10 Daily Strategic Thinking Tools for Problem Solving
X-ALT-DESC;FMTTYPE=text/html:<DIV><H2 style="TEXT-ALIGN: left"><FONT color=#4d85a0><SPAN style="FONT-SIZE: large"><H2 style="TEXT-ALIGN: left"><FONT color=#4d85a0><SPAN style="FONT-SIZE: large">Monday Morning Insight</SPAN></FONT></H2><DIV class=paragraph style="DISPLAY: block\; TEXT-ALIGN: left"><SPAN style="FONT-SIZE: medium\; COLOR: rgb(0\,0\,0)\; LINE-HEIGHT: normal\; FONT-FAMILY: 'Times New Roman'"><SPAN style="FONT-SIZE: 11px\; COLOR: rgb(51\,51\,51)\; LINE-HEIGHT: normal\; FONT-FAMILY: Verdana\,Arial\,Helvetica\,sans-serif\; BORDER-COLLAPSE: collapse"><SPAN style="FONT-SIZE: small"><FONT color=#716969>We've partnered with the Denner Group to bring you a series of Executive Briefings that will rev up your creative juices by learning key insights to think\, plan and act strategically on a daily basis. These briefings help leaders at all levels develop key skills to deal with change and think differently in these turbulent times. All are held at Courtyard by Marriott Rancho Bernardo\, and</FONT></SPAN><SPAN style="FONT-SIZE: small"><FONT color=#716969>&nbsp\;sponsored by the San Diego North Chamber of Commerce. Briefings are <STRONG>$69 for Chamber members</STRONG> or&nbsp\;<STRONG>$99 for non-members</STRONG>. </FONT></SPAN></SPAN></SPAN></DIV><DIV class=paragraph style="DISPLAY: block\; TEXT-ALIGN: left"><SPAN style="FONT-SIZE: medium\; COLOR: rgb(0\,0\,0)\; LINE-HEIGHT: normal\; FONT-FAMILY: 'Times New Roman'"><SPAN style="FONT-SIZE: 11px\; COLOR: rgb(51\,51\,51)\; LINE-HEIGHT: normal\; FONT-FAMILY: Verdana\,Arial\,Helvetica\,sans-serif\; BORDER-COLLAPSE: collapse"><SPAN style="FONT-SIZE: small"></SPAN><BR><STRONG><SPAN style="FONT-SIZE: small">March 22 </SPAN></STRONG><SPAN style="FONT-SIZE: small">&nbsp\;<EM>Future Environmental Scanning - How the World is Changing</EM><BR><BR></SPAN><STRONG><SPAN style="FONT-SIZE: small">April 20</SPAN></STRONG><SPAN style="FONT-SIZE: small">&nbsp\;&nbsp\;<EM>Strategic and Systems Thinking Overview - Simplicity</EM><BR><BR></SPAN><STRONG><SPAN style="FONT-SIZE: small">May 17</SPAN></STRONG><SPAN style="FONT-SIZE: small">&nbsp\;&nbsp\;<EM>Top 10 Everyday Tools for Strategic and Systems Thinking</EM><BR><BR></SPAN><STRONG><SPAN style="FONT-SIZE: small">June 21</SPAN></STRONG><SPAN style="FONT-SIZE: small">&nbsp\;&nbsp\;<EM>Daily Strategic Change - Iceberg Theory</EM><BR><BR></SPAN><STRONG><SPAN style="FONT-SIZE: small">July 19</SPAN></STRONG><SPAN style="FONT-SIZE: small">&nbsp\;&nbsp\;<EM>Daily Strategic Change - Rollercoaster of Change</EM><BR></SPAN><STRONG><SPAN style="FONT-SIZE: small"><BR>August 17</SPAN></STRONG><SPAN style="FONT-SIZE: small">&nbsp\;&nbsp\;<EM>Law of Unintended Consequences</EM><BR><BR></SPAN><STRONG><SPAN style="FONT-SIZE: small">September 20</SPAN></STRONG><SPAN style="FONT-SIZE: small">&nbsp\;&nbsp\;<EM>Top 10 Daily Strategic Thinking Tools for Problem Solving&nbsp\;</EM></SPAN></SPAN></SPAN></DIV></SPAN></FONT></H2><DIV><DIV style="OVERFLOW: hidden\; WIDTH: 100%\; HEIGHT: 20px"></DIV></DIV></DIV>
LOCATION:Courtyard by Marriott San Diego/Rancho Bernardo
UID:e.784.979
SEQUENCE:3
DTSTAMP:20260424T024813Z
URL:https://chamber.sdbusinesschamber.com/events/details/monday-morning-insight-04-20-2010-979
END:VEVENT

END:VCALENDAR
