BEGIN:VCALENDAR
VERSION:2.0
PRODID:-//ChamberMaster//Event Calendar 2.0//EN
METHOD:PUBLISH
X-PUBLISHED-TTL:P3D
REFRESH-INTERVAL:P3D
CALSCALE:GREGORIAN
BEGIN:VEVENT
DTSTART:20110312T230000Z
DTEND:20110313T010000Z
X-MICROSOFT-CDO-ALLDAYEVENT:FALSE
SUMMARY:Missoula Children's Theatre presents The Wizard of Oz
DESCRIPTION:The Wizard of Oz story is as familiar as it is beloved. The nasty tornado carries Dorothy and her dog Toto from the friendly confines of her Kansas home to a fabled fantasy of mystery and magic in the land of Oz. With the help of the Munchkins and Good Witch Glinda\, Dorothy and her loyal pooch join forces with the dancing Scarecrow\, the romantic Tin Man and\, the ever-popular Cowardly Lion. Off they go down the Yellow Brick on their perilous journey to find the Wizard and ask for his help.  Over 50 local young actors will be cast in this production as part of the Foundation's Art in Education Initiative.
X-ALT-DESC;FMTTYPE=text/html:<div>The Wizard of Oz story is as familiar as it is beloved. The nasty tornado carries Dorothy and her dog Toto from the friendly confines of her Kansas home to a fabled fantasy of mystery and magic in the land of Oz. With the help of the Munchkins and Good Witch Glinda\, Dorothy and her loyal pooch join forces with the dancing Scarecrow\, the romantic Tin Man and\, the ever-popular Cowardly Lion. Off they go down the Yellow Brick on their perilous journey to find the Wizard and ask for his help.  Over 50 local young actors will be cast in this production as part of the Foundation's Art in Education Initiative.</div>
LOCATION:Poway Center for the Performing Arts
UID:e.784.1777
SEQUENCE:3
DTSTAMP:20260423T114511Z
URL:https://chamber.sdbusinesschamber.com/events/details/missoula-children-s-theatre-presents-the-wizard-of-oz-03-12-2011-1777
END:VEVENT

END:VCALENDAR
