BEGIN:VCALENDAR
VERSION:2.0
PRODID:-//ChamberMaster//Event Calendar 2.0//EN
METHOD:PUBLISH
X-PUBLISHED-TTL:P3D
REFRESH-INTERVAL:P3D
CALSCALE:GREGORIAN
BEGIN:VEVENT
DTSTART:20130316T220000Z
DTEND:20130316T230000Z
X-MICROSOFT-CDO-ALLDAYEVENT:FALSE
SUMMARY:Missoula Children's Theater's - Snow White and the Seven Dwarfs
DESCRIPTION:Auditions:  4pm\, Monday\, March 11\, 2013\n\n	Performances: Saturday\, March 16 3pm/7pm\n\n	Part theater camp\, part community gathering   all fun!  The Missoula Children's Theatre transforms more than 60 local children into stage-savvy actors and stage crew in just six days.  Auditions\, open to all children age 5 through 18\, are held Monday\, March 11 at 4pm.  Participating children will spend the week learning the trade of the stage   from auditions to rehearsals to a performance of an all-new musical version of Snow White and the Seven Dwarfs.  See tomorrow's stars on stage today!
X-ALT-DESC;FMTTYPE=text/html:<p class="MsoNormal" style="line-height: normal\; margin: 0in 0in 0pt">\n	<span style="font-family: 'calibri'\, 'sans-serif'\; color: #333333\; font-size: 11pt\; mso-ascii-theme-font: minor-latin\; mso-hansi-theme-font: minor-latin\; mso-bidi-theme-font: minor-latin"><b style="mso-bidi-font-weight: normal"><span style="mso-ascii-font-family: calibri\; mso-hansi-font-family: calibri"><font color="#000000">Auditions: <span style="mso-spacerun: yes">&nbsp\;</span>4pm\, Monday\, March 11\, 2013</font></span></b></span></p>\n<p class="MsoNormal" style="line-height: normal\; margin: 0in 0in 0pt">\n	<span style="font-family: 'calibri'\, 'sans-serif'\; color: #333333\; font-size: 11pt\; mso-ascii-theme-font: minor-latin\; mso-hansi-theme-font: minor-latin\; mso-bidi-theme-font: minor-latin"><b style="mso-bidi-font-weight: normal"><span style="mso-ascii-font-family: calibri\; mso-hansi-font-family: calibri"><font color="#000000"><b style="mso-bidi-font-weight: normal"><span style="mso-ascii-font-family: calibri\; mso-hansi-font-family: calibri">Performances: Saturday\, March 16 3pm/7pm</span></b></font></span></b></span></p>\n<p class="MsoNormal" style="line-height: normal\; margin: 0in 0in 0pt">\n	<span style="font-family: 'calibri'\, 'sans-serif'\; color: #333333\; font-size: 11pt\; mso-ascii-theme-font: minor-latin\; mso-hansi-theme-font: minor-latin\; mso-bidi-theme-font: minor-latin">Part theater camp\, part community gathering &ndash\; all fun!<span style="mso-spacerun: yes">&nbsp\; </span>The Missoula Children&rsquo\;s Theatre transforms more than 60 local children into stage-savvy actors and stage crew in just six days.<span style="mso-spacerun: yes">&nbsp\; </span>Auditions\, open to all children age 5 through 18\, are held Monday\, March 11 at 4pm.<span style="mso-spacerun: yes">&nbsp\; </span>Participating children will spend the week learning the trade of the stage &ndash\; from auditions to rehearsals to a performance of an all-new musical version of <i style="mso-bidi-font-style: normal">Snow White and the Seven Dwarfs</i>.<span style="mso-spacerun: yes">&nbsp\; </span>See tomorrow&rsquo\;s stars on stage today!</span></p>\n
LOCATION:Poway Center for the Performing Arts 15498 Espola Road\, Poway\, CA 92064
UID:e.784.2666
SEQUENCE:3
DTSTAMP:20260422T003045Z
URL:https://chamber.sdbusinesschamber.com/events/details/missoula-children-s-theater-s-snow-white-and-the-seven-dwarfs-03-16-2013-2666
END:VEVENT

END:VCALENDAR
