BEGIN:VCALENDAR
VERSION:2.0
PRODID:-//ChamberMaster//Event Calendar 2.0//EN
METHOD:PUBLISH
X-PUBLISHED-TTL:P3D
REFRESH-INTERVAL:P3D
CALSCALE:GREGORIAN
BEGIN:VEVENT
DTSTART:20100128T080000Z
DTEND:20100128T080000Z
X-MICROSOFT-CDO-ALLDAYEVENT:FALSE
SUMMARY:Mini Golf\, little kids\, Big Vision
DESCRIPTION:Indoor Mini Golf Tournament to benefit Childrens' Hospital.
X-ALT-DESC;FMTTYPE=text/html:Indoor Mini Golf Tournament to benefit Childrens' Hospital.
LOCATION:SBC
UID:e.784.-169
SEQUENCE:3
DTSTAMP:20260424T072048Z
URL:https://chamber.sdbusinesschamber.com/events/details/mini-golf-little-kids-big-vision-01-28-2010
END:VEVENT

END:VCALENDAR
