BEGIN:VCALENDAR
VERSION:2.0
PRODID:-//ChamberMaster//Event Calendar 2.0//EN
METHOD:PUBLISH
X-PUBLISHED-TTL:P3D
REFRESH-INTERVAL:P3D
CALSCALE:GREGORIAN
BEGIN:VEVENT
DTSTART:20101209T153000Z
DTEND:20101209T173000Z
X-MICROSOFT-CDO-ALLDAYEVENT:FALSE
SUMMARY:Member Orientation Breakfast
DESCRIPTION:SDNCC welcomes all new and existing members to join us for a complimentary continental breakfast and informational orientation to educate you on the benefits and opportunities the chamber offers it's members.\n\n	 \n\n	The orientation will be held at the Doubletree Golf Resort\, 14455 Pensquitos Drive\, from 7:30 AM - 9:30 AM with complimentary breakfast\, coffee and tea.\n\n	 \n\n	RSVP Required\, please contact the Chamber at 858-487-1767.
X-ALT-DESC;FMTTYPE=text/html:<p style="margin-top: 0px\; margin-bottom: 0px\;">\n	SDNCC welcomes all new and existing members to join us for a complimentary continental breakfast and informational orientation to educate you on the benefits and opportunities the chamber offers it&#39\;s members.</p>\n<p style="margin-top: 0px\; margin-bottom: 0px\;">\n	&nbsp\;</p>\n<p style="margin-top: 0px\; margin-bottom: 0px\;">\n	The orientation will be held at the Doubletree Golf Resort<span>\, 14455 Pensquitos Drive\, </span>from 7:30 AM - 9:30 AM with complimentary breakfast\, coffee and tea.</p>\n<p style="margin-top: 0px\; margin-bottom: 0px\;">\n	&nbsp\;</p>\n<p style="margin-top: 0px\; margin-bottom: 0px\;">\n	RSVP Required\, please contact the Chamber at 858-487-1767.</p>\n
LOCATION:Doubletree Golf Resort 14455 Pensquitos Drive San Diego CA
UID:e.784.2224
SEQUENCE:3
DTSTAMP:20260423T152410Z
URL:https://chamber.sdbusinesschamber.com/events/details/member-orientation-breakfast-12-09-2010-2224
END:VEVENT

END:VCALENDAR
