BEGIN:VCALENDAR
VERSION:2.0
PRODID:-//ChamberMaster//Event Calendar 2.0//EN
METHOD:PUBLISH
X-PUBLISHED-TTL:P3D
REFRESH-INTERVAL:P3D
CALSCALE:GREGORIAN
BEGIN:VEVENT
DTSTART:20130328T143000Z
DTEND:20130328T160000Z
X-MICROSOFT-CDO-ALLDAYEVENT:FALSE
SUMMARY:Member Orientation Breakfast
DESCRIPTION:SDNCC welcomes all members to join us for a complimentary continental breakfast and orientation to educate you on the benefits and opportunities the chamber offers its members.\n\n\n\nSeating is limited to the first 25 registrants.
X-ALT-DESC;FMTTYPE=text/html:<font style="font-family: arial\;" size="2">SDNCC welcomes all members to join us for a <span style="font-style: italic\;">complimentary </span>continental breakfast and orientation to educate you on the benefits and opportunities the chamber offers its members.<br>\n<br>\n<span style="font-style: italic\;">Seating is limited to the first 25 registrants.</span></font>
LOCATION:San Diego North Chamber of Commerce 10875 Rancho Bernardo Rd. #104 San Diego\, Ca 92127
UID:e.784.2847
SEQUENCE:3
DTSTAMP:20260422T001615Z
URL:https://chamber.sdbusinesschamber.com/events/details/member-orientation-breakfast-03-28-2013-2847
END:VEVENT

END:VCALENDAR
