BEGIN:VCALENDAR
VERSION:2.0
PRODID:-//ChamberMaster//Event Calendar 2.0//EN
METHOD:PUBLISH
X-PUBLISHED-TTL:P3D
REFRESH-INTERVAL:P3D
CALSCALE:GREGORIAN
BEGIN:VEVENT
DTSTART:20130611T143000Z
DTEND:20130611T160000Z
X-MICROSOFT-CDO-ALLDAYEVENT:FALSE
SUMMARY:Member Breakfast Orientation
DESCRIPTION:SDNCC welcomes all members to join us for a complimentary continental breakfast and orientation to educate you on the benefits and opportunities the chamber offers its members.\n\n\n\nSeating is limited to the first 25 registrants.
X-ALT-DESC;FMTTYPE=text/html:<span style="color:#292929\;"><span style="font-family:arial\,sans-serif\;"><span style="font-size:10.0pt\;">SDNCC welcomes all members to join us for a <em>complimentary </em>continental breakfast and orientation to educate you on the benefits and opportunities the chamber offers its members.<br />\n<br />\n<em>Seating is limited to the first 25 registrants.</em></span></span></span>
LOCATION:San Diego North Chamber Office 10875 Ranch Bernardo Rd Suite 104 San Diego
UID:e.784.2899
SEQUENCE:3
DTSTAMP:20260421T191403Z
URL:https://chamber.sdbusinesschamber.com/events/details/member-breakfast-orientation-06-11-2013-2899
END:VEVENT

END:VCALENDAR
