BEGIN:VCALENDAR
VERSION:2.0
PRODID:-//ChamberMaster//Event Calendar 2.0//EN
METHOD:PUBLISH
X-PUBLISHED-TTL:P3D
REFRESH-INTERVAL:P3D
CALSCALE:GREGORIAN
BEGIN:VEVENT
DTSTART:20120314T143000Z
DTEND:20120314T160000Z
X-MICROSOFT-CDO-ALLDAYEVENT:FALSE
SUMMARY:Mayoral Candidates Mixer
DESCRIPTION:Confirmed Candidates:\n	\n		\n			Carl DeMaio\n		\n			Bonnie Dumanis\n		\n			Bob Filner\n		\n			Nathan Fletcher\n\n			 \n	\n	\n		This breakfast will provide attendees with the opportunity to speak to each candidate individually\, ask one-on-one questions\, and get to know each of the candidates in an informal setting.\n	\n		 \n\n\n	Admission is free and includes a light breakfast\, but space is limited. All attendees must RSVP in advance with the San Diego North Chamber of Commerce.
X-ALT-DESC;FMTTYPE=text/html:<div style="color: rgb(102\, 102\, 102)\; font-family: Arial\, Helvetica\, sans-serif\; text-align: left\; ">\n	<div style="font-size: 13px\; ">\n		<span style="font-size: 12pt\; "><strong>Confirmed Candidates:</strong></span></div>\n	<ul>\n		<li style="font-size: 13px\; ">\n			<span style="font-size: 12pt\; ">Carl DeMaio</span></li>\n		<li style="font-size: 13px\; ">\n			<span style="font-size: 12pt\; ">Bonnie Dumanis</span></li>\n		<li style="font-size: 13px\; ">\n			<span style="font-size: 12pt\; ">Bob Filner</span></li>\n		<li style="font-size: 13px\; ">\n			<span style="font-size: 12pt\; ">Nathan </span><span style="font-size: 12pt\; ">Fletcher</span><br />\n			&nbsp\;</li>\n	</ul>\n	<div style="font-size: 13px\; ">\n		<span style="text-align: left\; font-size: 11pt\; ">This</span><span style="text-align: left\; font-size: 11pt\; "> breakfast will provide attendees with the opportunity to speak to each candidate individually\,</span><span size="2" style="text-align: left\; font-size: 9pt\; ">&nbsp\;</span><span style="text-align: left\; font-size: 11pt\; ">ask one-on-one questions\, and get to know each of the candidates in an informal setting.</span></div>\n	<div>\n		&nbsp\;</div>\n</div>\n<div style="color: rgb(102\, 102\, 102)\; font-family: Arial\, Helvetica\, sans-serif\; font-size: 13px\; text-align: left\; ">\n	<span style="font-size: 11pt\; ">Admission is free and includes a light breakfast\, but space is limited. All attendees must RSVP in&nbsp\;</span><span style="font-size: 11pt\; ">advance with the San Diego North Chamber of Commerce.</span></div>\n
LOCATION:Jones Day 12265 El Camino Real San Diego CA 92130
UID:e.784.2596
SEQUENCE:3
DTSTAMP:20260422T190246Z
URL:https://chamber.sdbusinesschamber.com/events/details/mayoral-candidates-mixer-03-14-2012-2596
END:VEVENT

END:VCALENDAR
