BEGIN:VCALENDAR
VERSION:2.0
PRODID:-//ChamberMaster//Event Calendar 2.0//EN
METHOD:PUBLISH
X-PUBLISHED-TTL:P3D
REFRESH-INTERVAL:P3D
CALSCALE:GREGORIAN
BEGIN:VEVENT
DTSTART:20090723T070000Z
DTEND:20090723T070000Z
X-MICROSOFT-CDO-ALLDAYEVENT:FALSE
SUMMARY:Mayor Jerry Sanders
DESCRIPTION:
X-ALT-DESC;FMTTYPE=text/html:
LOCATION:Time Warner Cable
UID:e.784.878
SEQUENCE:3
DTSTAMP:20260424T154605Z
URL:https://chamber.sdbusinesschamber.com/events/details/mayor-jerry-sanders-07-23-2009-878
END:VEVENT

END:VCALENDAR
