BEGIN:VCALENDAR
VERSION:2.0
PRODID:-//ChamberMaster//Event Calendar 2.0//EN
METHOD:PUBLISH
X-PUBLISHED-TTL:P3D
REFRESH-INTERVAL:P3D
CALSCALE:GREGORIAN
BEGIN:VEVENT
DTSTART:20190922T170000Z
DTEND:20190922T200000Z
X-MICROSOFT-CDO-ALLDAYEVENT:FALSE
SUMMARY:Massage Envy – Encinitas\, Escondido\, Rancho Bernardo - Offer Free Services to Support World Wellness Weekend\, September 21 – 22\, 2019
DESCRIPTION:Massage Envy   Encinitas\, Escondido\, Rancho Bernardo -\n\nOffer Free Services to Support World Wellness Weekend\, September 21   22\, 2019\n\nMassage Envy to offer massage and skin care services to help people focus on wellness and keep their bodies working.\n\n \n\nRANCHO BERNARDO\, CALIFORNIA (August 19\, 2019)   Massage Envy\, the largest provider of therapeutic massage and skin care services in the U.S. collectively across its franchise network\, will be supporting World Wellness Weekend September 21 & 22.  Franchised locations nationwide\, to include Massage Envy in Encinitas\, Escondido\, Rancho Bernardo\, will open their doors to give the public opportunities to try free services to help keep their bodies working.\n\n \n\nThe Massage Envy franchises located in Encinitas\, Escondido\, Rancho Bernardo will be open to the public from 10 am to 1 pm Saturday and Sunday\, September 21 & 22.  During those dates and hours\, the community will be able to sample one of three free offers: a free skin care analysis with free skin care product sample (while supplies last)\, or free trials of Rapid Tension Relief or Total Body Stretch.  Spin the Wheel\, refreshments and other fun activities are planned.\n\n \n\n"We're delighted to support the 2019 World Wellness Weekend by giving our friends and neighbors in north San Diego county a chance to try some of our services.  This is our way of giving back to the community.  As the owner of the Massage Envy franchised locations in the Encinitas\, Escondido and Rancho Bernardo\, I believe we have a unique opportunity during World Wellness Weekend to encourage everyone to keep their body working through regular body care and skin care\," commented D'Onn Genovese.  \n\n \n\nFor the free skin care analysis\, consumers can consult with a licensed esthetician to learn about their particular skin condition and needs\, receive a hand facial or comparable mini skincare treatment and receive a free sample from PCA skin\, while supplies last.\n\n \n\nThe Rapid Tension Relief trial session combines the human expertise and skill of a licensed massage therapist with the cutting-edge technology of Hyperice's Hypervolt device.  With four different attachments for targeted treatment and three settings delivering up to 3\,200 percussions a minute\, the device assists therapists in maximizing the effectiveness of their technique and delivering a new customer experience.\n\n \n\nTotal Body Stretch is Massage Envy's head-to-toe assisted stretch that helps increase mobility\, flexibility and performance.\n\n \n\n"We hope to see a lot of people come by Massage Envy to try these free services during World Wellness Weekend.  There are no hidden costs and no strings attached.  The services are a great way for us to give back to the community and help people understand how they can keep their bodies working\," Ms. Genovese concluded. For more information on the planned activities at the Encinitas\, Escondido and Rancho Bernardo franchised locations on September 21 & 22\, visit the respective Massage Envy Facebook pages: @MassageEnvyEncinitas\, @MassageEnvyEscondido\, @MassageEnvyRanchoBernardo.\n\n \n\nWorld Wellness Weekend was created in 2017 by Jean-Guy de Gabriac\, CEO of Tip Touch International.  This year's worldwide event hopes to include over 2\,000 venues in some 100 countries.\n\n \n\nAbout Massage Envy\n\nMassage Envy\, based in Scottsdale\, Arizona\, is a national franchisor and\, collectively through its franchise locations\, is the leading provider of therapeutic massage and skincare services\, and proprietary assisted stretching service\, Total Body Stretch.  Founded 2002\, Massage Envy has more than 1\,150 franchised locations in 49 states that have together delivered more than 100 million massages and facials. Massage Envy franchised locations have been in No. San Diego County since 2007 when the Escondido franchised location was opened\, followed by Encinitas and Rancho Bernardo in 2009.  Massage Envy franchised locations are collectively the largest employer of massage therapists and estheticians in San Diego County. For more information\, visit us at  www.massageenvy.com\, or follow us on Facebook: @MassageEnvyEncinitas\, @MassageEnvyEscondido\, @MassageEnvyRanchoBernardo.\n\n                                                                                                                                                                                                                                             ###\n\n \n\n \n\nKathleen McEntee\n\n\n\nKathleen McEntee and Associates\, Ltd.\n\n79-405 Hwy 111\, Ste 9-486\, La Quinta CA 92253\n\n2020 N. California Avenue\, Chicago\, IL 60647\n\n\n\nOffice: (312)242-1606\n\nKathleenMcEntee@KMcEnteeAssoc.com\n\nwww.facebook.com/KMcEnteeAssoc\n\nhttp://linkedin.com/in/kmmcentee
X-ALT-DESC;FMTTYPE=text/html:<strong><span style="font-size:14pt">Massage Envy &ndash\; Encinitas\, Escondido\, Rancho Bernardo -<br />\nOffer Free Services to Support World Wellness Weekend\, September 21 &ndash\; 22\, 2019</span></strong><br />\n<em><span style="font-size:10pt">Massage Envy to offer massage and skin care services to help people focus on wellness and keep their bodies working.</span></em><br />\n&nbsp\;<br />\n<strong>RANCHO BERNARDO\, CALIFORNIA (August 19\, 2019)</strong>&nbsp\;&ndash\;&nbsp\;<a href="https://www.massageenvy.com/">Massage Envy</a>\, the largest provider of therapeutic massage and skin care services in the U.S. collectively across its franchise network\, will be supporting&nbsp\;<a href="https://www.world-wellness-weekend.org/">World Wellness Weekend</a>&nbsp\;September 21 &amp\; 22.&nbsp\; Franchised locations nationwide\, to include Massage Envy in Encinitas\, Escondido\, Rancho Bernardo\, will open their doors to give the public opportunities to try free services to help keep their bodies working.<br />\n&nbsp\;<br />\nThe Massage Envy franchises located in Encinitas\, Escondido\, Rancho Bernardo will be open to the public from 10 am to 1 pm Saturday and Sunday\, September 21 &amp\; 22.&nbsp\; During those dates and hours\, the community will be able to sample one of three free offers: a free skin care analysis with free skin care product sample (while supplies last)\, or free trials of Rapid Tension Relief or Total Body Stretch.&nbsp\; Spin the Wheel\, refreshments and other fun activities are planned.<br />\n&nbsp\;<br />\n&ldquo\;We&rsquo\;re delighted to support the 2019 World Wellness Weekend by giving our friends and neighbors in north San Diego county a chance to try some of our services. &nbsp\;This is our way of giving back to the community.&nbsp\; As the owner of the Massage Envy franchised locations in the Encinitas\, Escondido and Rancho Bernardo\, I believe we have a unique opportunity during World Wellness Weekend to encourage everyone to keep their body working through regular body care and skin care\,&rdquo\; commented D&rsquo\;Onn Genovese. &nbsp\;<br />\n&nbsp\;<br />\nFor the free skin care analysis\, consumers can consult with a licensed esthetician to learn about their particular skin condition and needs\, receive a hand facial or comparable mini skincare treatment and receive a free sample from PCA skin\, while supplies last.<br />\n&nbsp\;<br />\nThe Rapid Tension Relief trial session combines the human expertise and skill of a licensed massage therapist with the cutting-edge technology of Hyperice&rsquo\;s&nbsp\;<a href="https://hyperice.com/hypervolt"><span style="color:rgb(0\, 112\, 192)">Hypervolt</span></a>&nbsp\;device.&nbsp\; With four different attachments for targeted treatment and three settings delivering up to 3\,200 percussions a minute\, the device assists therapists in maximizing the effectiveness of their technique and delivering a new customer experience.<br />\n&nbsp\;<br />\nTotal Body Stretch is Massage Envy&rsquo\;s head-to-toe assisted stretch that helps increase mobility\, flexibility and performance.<br />\n&nbsp\;<br />\n&ldquo\;We hope to see a lot of people come by Massage Envy to try these free services during World Wellness Weekend.&nbsp\; There are no hidden costs and no strings attached.&nbsp\; The services are a great way for us to give back to the community and help people understand how they can keep their bodies working\,&rdquo\; Ms. Genovese concluded. For more information on the planned activities at the Encinitas\, Escondido and Rancho Bernardo franchised locations on September 21 &amp\; 22\, visit the respective Massage Envy Facebook pages:&nbsp\;<a href="https://www.facebook.com/MassageEnvyEncinitas/">@MassageEnvyEncinitas</a>\,&nbsp\;<a href="https://www.facebook.com/MassageEnvyEscondido/">@MassageEnvyEscondido</a>\,&nbsp\;<a href="https://www.facebook.com/MassageEnvyRanchoBernardo/">@MassageEnvyRanchoBernardo</a>.<br />\n&nbsp\;<br />\nWorld Wellness Weekend was created in 2017 by Jean-Guy de Gabriac\, CEO of Tip Touch International.&nbsp\; This year&rsquo\;s worldwide event hopes to include over 2\,000 venues in some 100 countries.<br />\n&nbsp\;<br />\n<strong><em><span style="font-family:arial narrow\,sans-serif"><span style="font-size:10pt">About Massage Envy</span></span></em></strong><br />\n<em><span style="font-family:arial narrow\,sans-serif"><span style="font-size:10pt">Massage Envy\, based in Scottsdale\, Arizona\, is a national franchisor and\, collectively through its franchise locations\, is the leading provider of therapeutic massage and skincare services\, and proprietary assisted stretching service\, Total Body Stretch.&nbsp\; Founded 2002\, Massage Envy has more than 1\,150 franchised locations in 49 states that have together delivered more than 100 million massages and facials. Massage Envy franchised locations have been in No. San Diego County since 2007 when the Escondido franchised location was opened\, followed by Encinitas and Rancho Bernardo in 2009.&nbsp\; Massage Envy franchised locations are collectively the largest employer of massage therapists and estheticians in San Diego County. For more information\, visit us at &nbsp\;</span></span></em><a href="http://www.massageenvy.com"><em><span style="font-family:arial narrow\,sans-serif"><span style="font-size:10pt">www.massageenvy.com</span></span></em></a><em><span style="color:rgb(55\, 55\, 55)"><span style="font-family:arial narrow\,sans-serif"><span style="font-size:10pt">\,&nbsp\;</span></span></span></em><em><span style="font-family:arial narrow\,sans-serif"><span style="font-size:10pt">or follow us<span style="color:black">&nbsp\;on Facebook:&nbsp\;</span></span></span></em><a href="https://www.facebook.com/MassageEnvyEncinitas/">@MassageEnvyEncinitas</a>\,&nbsp\;<a href="https://www.facebook.com/MassageEnvyEscondido/">@MassageEnvyEscondido</a>\,&nbsp\;<a href="https://www.facebook.com/MassageEnvyRanchoBernardo/">@MassageEnvyRanchoBernardo</a>.<br />\n<em><span style="color:black"><span style="font-family:arial narrow\,sans-serif"><span style="font-size:10pt">&nbsp\;&nbsp\;&nbsp\;&nbsp\;&nbsp\;&nbsp\;&nbsp\;&nbsp\;&nbsp\;&nbsp\;&nbsp\;&nbsp\;&nbsp\;&nbsp\;&nbsp\;&nbsp\;&nbsp\;&nbsp\;&nbsp\;&nbsp\;&nbsp\;&nbsp\;&nbsp\;&nbsp\;&nbsp\;&nbsp\;&nbsp\; &nbsp\;&nbsp\;&nbsp\;&nbsp\;&nbsp\;&nbsp\;&nbsp\;&nbsp\;&nbsp\;&nbsp\;&nbsp\;&nbsp\;&nbsp\;&nbsp\;&nbsp\;&nbsp\;&nbsp\;&nbsp\;&nbsp\;&nbsp\;&nbsp\;&nbsp\;&nbsp\;&nbsp\;&nbsp\;&nbsp\;&nbsp\;&nbsp\;&nbsp\;&nbsp\;&nbsp\;&nbsp\;&nbsp\;&nbsp\;&nbsp\;&nbsp\;&nbsp\;&nbsp\;&nbsp\;&nbsp\;&nbsp\;&nbsp\;&nbsp\;&nbsp\;&nbsp\;&nbsp\;&nbsp\;&nbsp\;&nbsp\;&nbsp\;&nbsp\;&nbsp\;&nbsp\;&nbsp\;&nbsp\;&nbsp\;&nbsp\;&nbsp\;&nbsp\;&nbsp\;&nbsp\;&nbsp\;&nbsp\;&nbsp\;&nbsp\;&nbsp\;&nbsp\;&nbsp\;&nbsp\;&nbsp\;&nbsp\;&nbsp\;&nbsp\;&nbsp\;&nbsp\;&nbsp\;&nbsp\;&nbsp\;&nbsp\;&nbsp\;&nbsp\;&nbsp\;&nbsp\;&nbsp\;&nbsp\;&nbsp\;&nbsp\;&nbsp\;&nbsp\;&nbsp\;&nbsp\;&nbsp\;&nbsp\;&nbsp\;&nbsp\;&nbsp\;&nbsp\;&nbsp\;&nbsp\;&nbsp\;&nbsp\;&nbsp\;&nbsp\;&nbsp\;&nbsp\;&nbsp\;&nbsp\;&nbsp\;&nbsp\;&nbsp\;&nbsp\;&nbsp\;&nbsp\;&nbsp\;&nbsp\;&nbsp\;&nbsp\;&nbsp\;&nbsp\;&nbsp\;&nbsp\;&nbsp\;&nbsp\;&nbsp\;&nbsp\;&nbsp\;&nbsp\;&nbsp\;&nbsp\;&nbsp\;&nbsp\;&nbsp\;&nbsp\;&nbsp\;&nbsp\;&nbsp\;&nbsp\;&nbsp\;&nbsp\;&nbsp\;&nbsp\;&nbsp\;&nbsp\;&nbsp\;&nbsp\;&nbsp\;&nbsp\;&nbsp\;&nbsp\;&nbsp\;&nbsp\;&nbsp\;&nbsp\;&nbsp\;&nbsp\;&nbsp\;&nbsp\;&nbsp\;&nbsp\;&nbsp\;&nbsp\;&nbsp\;&nbsp\;&nbsp\;&nbsp\;&nbsp\;&nbsp\;&nbsp\;&nbsp\;&nbsp\;&nbsp\;&nbsp\;&nbsp\;&nbsp\;&nbsp\;&nbsp\;&nbsp\;&nbsp\;&nbsp\;&nbsp\;&nbsp\;&nbsp\;&nbsp\;&nbsp\;&nbsp\;&nbsp\;&nbsp\;&nbsp\;&nbsp\;&nbsp\;&nbsp\;&nbsp\;&nbsp\;&nbsp\;&nbsp\;&nbsp\;&nbsp\;&nbsp\;&nbsp\;&nbsp\;&nbsp\;&nbsp\;&nbsp\;&nbsp\;&nbsp\;&nbsp\;&nbsp\;&nbsp\;&nbsp\;###</span></span></span></em><br />\n&nbsp\;<br />\n&nbsp\;<br />\n<span style="color:black"><span style="font-size:12pt">Kathleen McEntee</span></span><br />\n<br />\n<span style="color:black"><span style="font-size:12pt">Kathleen McEntee and Associates\, Ltd.<br />\n79-405 Hwy 111\, Ste 9-486\, La Quinta CA 92253<br />\n2020 N. California Avenue\, Chicago\, IL 60647<br />\n<br />\nOffice: (312)242-1606<br />\n<a href="mailto:KathleenMcEntee@KMcEnteeAssoc.com">KathleenMcEntee@KMcEnteeAssoc.com</a><br />\n<a href="file:///C:/Users/Kathleen/Desktop/June%202018/KMA/www.facebook.com/KMcEnteeAssoc"><span style="color:blue">www.facebook.com/KMcEnteeAssoc</span></a><br />\n<a href="http://linkedin.com/in/kmmcentee"><span style="color:blue">http://linkedin.com/in/kmmcentee</span></a></span></span><br />\n&nbsp\;
LOCATION:ME Encinitas 278-D N\, El Camino Real Encinitas\, CA 92024 ME Escondido 1210 Auto Park Way Escondido\, CA 92029 ME Rancho Bernardo 16779 Bernardo Center Dr #2 San Diego\, CA 92128
UID:e.784.22882
SEQUENCE:3
DTSTAMP:20260421T113644Z
URL:https://chamber.sdbusinesschamber.com/events/details/massage-envy-encinitas-escondido-rancho-bernardo-offer-free-services-to-support-world-wellness-weekend-september-21-22-2019-22882
END:VEVENT

END:VCALENDAR
