BEGIN:VCALENDAR
VERSION:2.0
PRODID:-//ChamberMaster//Event Calendar 2.0//EN
METHOD:PUBLISH
X-PUBLISHED-TTL:P3D
REFRESH-INTERVAL:P3D
CALSCALE:GREGORIAN
BEGIN:VEVENT
DTSTART:20110824T003000Z
DTEND:20110824T023000Z
X-MICROSOFT-CDO-ALLDAYEVENT:FALSE
SUMMARY:Mardi Gras in Rancho Bernardo!
DESCRIPTION:Join the San Diego North Chamber of Commerce and Rancho Bernardo Business Association on August 23\, from 5:30 pm - 7:30 pm for an evening of Southern hospitality and Mardi Gras fun in Rancho Bernardo\, hosted by Real Living Lifestyles\, Pacific Western Bank and Boardwalk Development.  Celebrate with traditional New Orleans style hors d'oeuvres and hurricane beverages provided by Carvers Steaks and Chops.  Enjoy a live six-piece Dixieland Band and meet the Mardi Gras King and Queen!  There will be a silent auction\, with 100% of the proceeds benefitting the San Diego North Education Foundation.  This event is free to SDNCC members.
X-ALT-DESC;FMTTYPE=text/html:<p style="text-align: justify">\n	<span style="font-size: 12px">Join the San Diego North Chamber of Commerce and Rancho Bernardo Business Association on August 23\, from 5:30 pm - 7:30 pm for an evening of Southern hospitality and Mardi Gras fun in Rancho Bernardo\, hosted by Real Living Lifestyles\, Pacific Western Bank and Boardwalk Development.&nbsp\; Celebrate with traditional New Orleans style hors d&#39\;oeuvres and hurricane beverages provided by Carvers Steaks and Chops.&nbsp\; Enjoy a live six-piece&nbsp\;Dixieland Band and meet the Mardi Gras King and Queen!&nbsp\; There will be a silent auction\, with 100% of the proceeds benefitting the San Diego North Education Foundation.&nbsp\; This event is free to SDNCC members.</span></p>\n
LOCATION:Real Living Lifestyles Building 16789 Bernardo Center Drive San Diego\, CA 92128
UID:e.784.2317
SEQUENCE:3
DTSTAMP:20260423T042137Z
URL:https://chamber.sdbusinesschamber.com/events/details/mardi-gras-in-rancho-bernardo-08-23-2011-2317
END:VEVENT

END:VCALENDAR
