BEGIN:VCALENDAR
VERSION:2.0
PRODID:-//ChamberMaster//Event Calendar 2.0//EN
METHOD:PUBLISH
X-PUBLISHED-TTL:P3D
REFRESH-INTERVAL:P3D
CALSCALE:GREGORIAN
BEGIN:VEVENT
DTSTART:20130725T010000Z
DTEND:20130725T023000Z
X-MICROSOFT-CDO-ALLDAYEVENT:FALSE
SUMMARY:Making Smart Money Decisions with George Chamberlin
DESCRIPTION:We are happy to welcome our esteemed guest speaker\, George Chamberlin to discuss steps you can take to help ensure your financial plan is on track.  Topics will include:  Retirement\, Investing and IRA's. \n\nSpace is limited so please RSVP.
X-ALT-DESC;FMTTYPE=text/html:We are happy to welcome our esteemed guest speaker\, George Chamberlin to discuss steps you can take to help ensure your financial plan is on track.&nbsp\; Topics will include:&nbsp\; Retirement\, Investing and IRA&#39\;s.&nbsp\;<br />\nSpace is limited so please RSVP.
LOCATION:SDCCU Rancho Bernardo Branch 11965 Bernardo Plaza Drive
UID:e.784.2922
SEQUENCE:3
DTSTAMP:20260421T191629Z
URL:https://chamber.sdbusinesschamber.com/events/details/making-smart-money-decisions-with-george-chamberlin-07-24-2013-2922
END:VEVENT

END:VCALENDAR
