BEGIN:VCALENDAR
VERSION:2.0
PRODID:-//ChamberMaster//Event Calendar 2.0//EN
METHOD:PUBLISH
X-PUBLISHED-TTL:P3D
REFRESH-INTERVAL:P3D
CALSCALE:GREGORIAN
BEGIN:VEVENT
DTSTART;VALUE=DATE:20080610
DTEND;VALUE=DATE:20090701
TRANSP:TRANSPARENT
X-MICROSOFT-CDO-ALLDAYEVENT:TRUE
SUMMARY:Low Cost Sliding Scale/Happy Hour/Spa Finders
DESCRIPTION:Low Cost Community Massage Center - Sliding Scale and or Medicare Recipients Day\nTues and Fri 10pm-3pm Sliding Scale $35 for one hour therapeutic massage\, New Patients $10 additional initial appointment fee.  Call 760- 936-5050 to schedule. Walk-ins accepted on a space-available basis.  \n\nHappy Hour – buy one get one half off Thursdays from 3:00 – 5:00\nBring a friend\, buy one massagesession\, and get the next one half off. Must redeem both sessions at the same time or based on our schedule availability. Call 760-936-5050 or 858-945-6199 to schedule. By Appointment only. \n\nSpa Finders Certificates - We’ll honor your Spa Finders certificates\, one time only per guest\, please. Call 760- 936-5050 to schedule. By Appointment only.\n\nLimited time offers. We reserve the right to make appointments based on our availability.
X-ALT-DESC;FMTTYPE=text/html:Low Cost Community Massage Center - Sliding Scale and or Medicare Recipients Day\nTues and Fri 10pm-3pm Sliding Scale $35 for one hour therapeutic massage\, New Patients $10 additional initial appointment fee.  Call 760- 936-5050 to schedule. Walk-ins accepted on a space-available basis.  \n\nHappy Hour – buy one get one half off Thursdays from 3:00 – 5:00\nBring a friend\, buy one massagesession\, and get the next one half off. Must redeem both sessions at the same time or based on our schedule availability. Call 760-936-5050 or 858-945-6199 to schedule. By Appointment only. \n\nSpa Finders Certificates - We’ll honor your Spa Finders certificates\, one time only per guest\, please. Call 760- 936-5050 to schedule. By Appointment only.\n\nLimited time offers. We reserve the right to make appointments based on our availability.\n
LOCATION:Network For Health Holistic Center
UID:e.784.-154
SEQUENCE:3
DTSTAMP:20260424T181148Z
URL:https://chamber.sdbusinesschamber.com/events/details/low-cost-sliding-scale-happy-hour-spa-finders-06-10-2008
END:VEVENT

END:VCALENDAR
