BEGIN:VCALENDAR
VERSION:2.0
PRODID:-//ChamberMaster//Event Calendar 2.0//EN
METHOD:PUBLISH
X-PUBLISHED-TTL:P3D
REFRESH-INTERVAL:P3D
CALSCALE:GREGORIAN
BEGIN:VEVENT
DTSTART:20120615T160000Z
DTEND:20120615T210000Z
X-MICROSOFT-CDO-ALLDAYEVENT:FALSE
SUMMARY:Live Well\, San Diego! Summit 2012: Building a Healthy Community for All Ages
DESCRIPTION:Older adults and their wealth of experience are a growing natural resource for our neighborhoods.  Our youth are our future.\n\n	\n\n	Both ends of the age spectrum have much to offer one another.  Help us explore intergenerational solutions to our most challenging problems.  Nationally recognized experts will open our minds to how this can happen.\n\n	\n\n	Help us weave intergenerational programs into the fabric of policies and actions.
X-ALT-DESC;FMTTYPE=text/html:<p>\n	Older adults and their wealth of experience are a growing natural resource for our neighborhoods.&nbsp\; Our youth are our future.<br />\n	<br />\n	Both ends of the age spectrum have much to offer one another.&nbsp\; Help us explore intergenerational solutions to our most challenging problems.&nbsp\; Nationally recognized experts will open our minds to how this can happen.<br />\n	<br />\n	Help us weave intergenerational programs into the fabric of policies and actions.</p>\n
LOCATION:Main Site: Town & Country Convention Center\, 500 Hotel Circle N\, San Diego 92108 North Coastal Site: Sheraton Carlsbad Resort & Spa\, 5480 Grand Pacific Dr\, Carlsbad 92008 North Inland Site: California Center for the Arts Escondido\, 340 N Escondido Blvd\, Escondido 92025
UID:e.784.2624
SEQUENCE:3
DTSTAMP:20260422T140730Z
URL:https://chamber.sdbusinesschamber.com/events/details/live-well-san-diego-summit-2012-building-a-healthy-community-for-all-ages-06-15-2012-2624
END:VEVENT

END:VCALENDAR
