BEGIN:VCALENDAR
VERSION:2.0
PRODID:-//ChamberMaster//Event Calendar 2.0//EN
METHOD:PUBLISH
X-PUBLISHED-TTL:P3D
REFRESH-INTERVAL:P3D
CALSCALE:GREGORIAN
BEGIN:VEVENT
DTSTART:20201024T000000Z
DTEND:20201024T033000Z
X-MICROSOFT-CDO-ALLDAYEVENT:FALSE
SUMMARY:Live Music - The Pushpins at Koi Zen Cellars
DESCRIPTION:Live Music outdoors under the Tents at Koi Zen Cellars.\n\nWine available for purchase.\n\nSmall cheese boards from Elements Cafe available for purchase.\n\nYou are welcome to bring a light snack of your own.\n\nNo outside beverages.
X-ALT-DESC;FMTTYPE=text/html:Live Music outdoors under the Tents at Koi Zen Cellars.<br />\nWine available for purchase.<br />\nSmall cheese boards from Elements Cafe available for purchase.<br />\nYou are welcome to bring a light snack of your own.<br />\nNo outside beverages.
LOCATION:Koi Zen Cellars Craft Winery 12225 World Trade Dr\, Suite P San Diego CA 92128
UID:e.784.26531
SEQUENCE:3
DTSTAMP:20260425T194837Z
URL:https://chamber.sdbusinesschamber.com/events/details/live-music-the-pushpins-at-koi-zen-cellars-26531
END:VEVENT

END:VCALENDAR
