BEGIN:VCALENDAR
VERSION:2.0
PRODID:-//ChamberMaster//Event Calendar 2.0//EN
METHOD:PUBLISH
X-PUBLISHED-TTL:P3D
REFRESH-INTERVAL:P3D
CALSCALE:GREGORIAN
BEGIN:VEVENT
DTSTART:20100527T070000Z
DTEND:20100527T070000Z
X-MICROSOFT-CDO-ALLDAYEVENT:FALSE
SUMMARY:Legends of Summer
DESCRIPTION:Get inspired! Meet AVP champions Sinjin Smith & Randy Stoklos\, NCAA basketball players\, pro basketball trainers\, fencing champions\, Olympic and professional Irish soccer players\, Futsal experts and High School head coaches.\n\nThis summer\, the City of Encinitas Parks and Recreation Department offershundreds of activities for all ages\, including brand new beach volleyball camps and clinics\, sportsleagues\, beach activities\, instructional classes and more. Join us for a FREE evening of:\n\n-Camp Previews\n-Sports Demos\n-Games & Contests\n-Prize Giveaways
X-ALT-DESC;FMTTYPE=text/html:Get inspired! Meet AVP champions Sinjin Smith & Randy Stoklos\, NCAA basketball players\, pro basketball trainers\, fencing champions\, Olympic and professional Irish soccer players\, Futsal experts and High School head coaches.\n\nThis summer\, the City of Encinitas Parks and Recreation Department offershundreds of activities for all ages\, including brand new beach volleyball camps and clinics\, sportsleagues\, beach activities\, instructional classes and more. Join us for a FREE evening of:\n\n-Camp Previews\n-Sports Demos\n-Games & Contests\n-Prize Giveaways
LOCATION:Encinitas Community Center
UID:e.784.-172
SEQUENCE:3
DTSTAMP:20260424T012432Z
URL:https://chamber.sdbusinesschamber.com/events/details/legends-of-summer-05-27-2010
END:VEVENT

END:VCALENDAR
