BEGIN:VCALENDAR
VERSION:2.0
PRODID:-//ChamberMaster//Event Calendar 2.0//EN
METHOD:PUBLISH
X-PUBLISHED-TTL:P3D
REFRESH-INTERVAL:P3D
CALSCALE:GREGORIAN
BEGIN:VEVENT
DTSTART:20111101T180000Z
DTEND:20111101T210000Z
X-MICROSOFT-CDO-ALLDAYEVENT:FALSE
SUMMARY:"LASH-N-DASH" Lunch Party\, a pre-holiday shopping event
DESCRIPTION:"LASH-N-DASH" LUNCH PARTY\n\nfor pre-Holiday Shopping!\n\n\n\nTuesday\, November 1st from 11am   2pm\n\n\n\nSurfside Dermatology   Encinitas 320 Santa Fe Drive\, Suite 310\n\n\n\n\n\n  Enjoy lovely to-go lunches so that you can "LASH-N-DASH!"\n\n($100 minimum purchase required for complimentary lunch please)\n\n\n\n  20% off of all retail skincare products\n\n  40% off of selected retail skincare products (wow!)\n\n  20% off of all procedures when purchasing a holiday gift certificate\n\n  $100 Latisse ($20 savings). Purchase discounted Latisse gift certificates for the\n\nones you love!\n\n  Buy 2 Latisse and get 1 FREE! ($160 savings)\n\n  Fabulous "ALL EYES ON YOU" package\, which includes 20 units of Botox with\n\n20% discount\, plus special priced $100 Latisse\, plus FREE Vivite peel ($125 value).\n\nTotal Savings is $200!\n\n\n\nAMAZING Raffle for FREE services and products\,\n\n& the more you shop the more you can win!\n\nFor every $100 spent\, receive a raffle ticket for prizes like:\n\n?Ü Botox treatment ?Ü Juvederm treatment\, ?Ü Latisse Kit ?Ü IPL photofacial\n\n?Ü "Fire & Ice" Exfoliating Facial ?Ü Skincare Gift Baskets\n\n\n\n\n\nAll New Brilliant Distinction Members receive 1 Free Raffle Ticket.\n\nAlready a member?\n\nBring a friend new to Brilliant Distinctions and you both receive 1 Free Raffle Ticket.\n\nPre-register for Brilliant Distinctions at www.Brilliantdistinctionsprogram.com\n\n\n\nFriends are welcome\, but remember space is limited!\n\nPlease RSVP for all guests via info@drheimer.com\, or 760-944-7000.
X-ALT-DESC;FMTTYPE=text/html:&ldquo\;LASH-N-DASH&rdquo\; LUNCH PARTY<br />\nfor pre-Holiday Shopping!<br />\n<br />\nTuesday\, November 1st from 11am &ndash\; 2pm<br />\n<br />\nSurfside Dermatology &ndash\; Encinitas 320 Santa Fe Drive\, Suite 310<br />\n<br />\n<br />\n&bull\; Enjoy lovely to-go lunches so that you can &ldquo\;LASH-N-DASH!&rdquo\;<br />\n($100 minimum purchase required for complimentary lunch please)<br />\n<br />\n&bull\; 20% off of all retail skincare products<br />\n&bull\; 40% off of selected retail skincare products (wow!)<br />\n&bull\; 20% off of all procedures when purchasing a holiday gift certificate<br />\n&bull\; $100 Latisse ($20 savings). Purchase discounted Latisse gift certificates for the<br />\nones you love!<br />\n&bull\; Buy 2 Latisse and get 1 FREE! ($160 savings)<br />\n&bull\; Fabulous &ldquo\;ALL EYES ON YOU&rdquo\; package\, which includes 20 units of Botox with<br />\n20% discount\, plus special priced $100 Latisse\, plus FREE Vivite peel ($125 value).<br />\nTotal Savings is $200!<br />\n<br />\nAMAZING Raffle for FREE services and products\,<br />\n&amp\; the more you shop the more you can win!<br />\nFor every $100 spent\, receive a raffle ticket for prizes like:<br />\n?Ü Botox treatment ?Ü Juvederm treatment\, ?Ü Latisse Kit ?Ü IPL photofacial<br />\n?Ü &ldquo\;Fire &amp\; Ice&rdquo\; Exfoliating Facial ?Ü Skincare Gift Baskets<br />\n<br />\n<br />\nAll New Brilliant Distinction Members receive 1 Free Raffle Ticket.<br />\nAlready a member?<br />\nBring a friend new to Brilliant Distinctions and you both receive 1 Free Raffle Ticket.<br />\nPre-register for Brilliant Distinctions at www.Brilliantdistinctionsprogram.com<br />\n<br />\nFriends are welcome\, but remember space is limited!<br />\nPlease RSVP for all guests via info@drheimer.com\, or 760-944-7000.<br />\n
LOCATION:Surfside Dermatology of Encinitas (in the Scripps Hospital Campus) 320 Santa Fe Drive\, Suite 310
UID:e.784.2495
SEQUENCE:3
DTSTAMP:20260423T001639Z
URL:https://chamber.sdbusinesschamber.com/events/details/lash-n-dash-lunch-party-a-pre-holiday-shopping-event-11-01-2011-2495
END:VEVENT

END:VCALENDAR
